BEGIN:VCALENDAR
VERSION:2.0
PRODID:-//RCC - ECPv6.0.12//NONSGML v1.0//EN
CALSCALE:GREGORIAN
METHOD:PUBLISH
X-WR-CALNAME:RCC
X-ORIGINAL-URL:https://restoncommunitycenter.com
X-WR-CALDESC:Events for RCC
REFRESH-INTERVAL;VALUE=DURATION:PT1H
X-Robots-Tag:noindex
X-PUBLISHED-TTL:PT1H
BEGIN:VTIMEZONE
TZID:America/New_York
BEGIN:DAYLIGHT
TZOFFSETFROM:-0500
TZOFFSETTO:-0400
TZNAME:EDT
DTSTART:20240310T070000
END:DAYLIGHT
BEGIN:STANDARD
TZOFFSETFROM:-0400
TZOFFSETTO:-0500
TZNAME:EST
DTSTART:20241103T060000
END:STANDARD
END:VTIMEZONE
BEGIN:VEVENT
DTSTART;TZID=America/New_York:20240525T150000
DTEND;TZID=America/New_York:20240525T150000
DTSTAMP:20260423T064422
CREATED:20231115T140000Z
LAST-MODIFIED:20231115T174550Z
UID:32075-1716649200-1716649200@restoncommunitycenter.com
SUMMARY:CenterStage Cinema: Equity Matters: "Arrival of the First Africans in English America"
DESCRIPTION:In 2019\, Americans commemorated the 400-year anniversary of the arrival of the first enslaved Africans in English America\, an event that inspired new scholarship on the meaning of our nation’s origins and founding principles\, as well as fierce controversy over the legacy of slavery. Stay afterward to speak with Director Ric Murphy and actor/composer Joe Minor. Rated PG-13.  \nRegistration required in advance or at the door (reg#261005-4A). 
URL:https://restoncommunitycenter.com/event/centerstage-cinema-equity-matters-arrival-of-the-first-africans-in-english-america/
LOCATION:The Leila Gordon Theatre\, 2310 Colts Neck Rd.\, Reston\, VA\, 20191\, United States
CATEGORIES:Movies
ATTACH;FMTTYPE=image/jpeg:https://restoncommunitycenter.com/wp-content/uploads/pexels-ann-h-5515483-scaled.jpg
END:VEVENT
END:VCALENDAR