BEGIN:VCALENDAR
VERSION:2.0
PRODID:-//RCC - ECPv6.0.12//NONSGML v1.0//EN
CALSCALE:GREGORIAN
METHOD:PUBLISH
X-WR-CALNAME:RCC
X-ORIGINAL-URL:https://restoncommunitycenter.com
X-WR-CALDESC:Events for RCC
REFRESH-INTERVAL;VALUE=DURATION:PT1H
X-Robots-Tag:noindex
X-PUBLISHED-TTL:PT1H
BEGIN:VTIMEZONE
TZID:America/New_York
BEGIN:DAYLIGHT
TZOFFSETFROM:-0500
TZOFFSETTO:-0400
TZNAME:EDT
DTSTART:20230312T070000
END:DAYLIGHT
BEGIN:STANDARD
TZOFFSETFROM:-0400
TZOFFSETTO:-0500
TZNAME:EST
DTSTART:20231105T060000
END:STANDARD
END:VTIMEZONE
BEGIN:VEVENT
DTSTART;TZID=America/New_York:20230306T100000
DTEND;TZID=America/New_York:20230306T100000
DTSTAMP:20260422T051446
CREATED:20221212T161830Z
LAST-MODIFIED:20230214T192407Z
UID:23881-1678096800-1678096800@restoncommunitycenter.com
SUMMARY:CenterStage Cinema: The Greatest Showman
DESCRIPTION:Be swept away to imagined worlds as you watch these great films in the comfort of the CenterStage. For public health safety\, food will not be served. Registration is required in advance or at the door and some health protocols may be in place.\nCelebrate the birth of show business and the story of a visionary who rose from nothing to create a spectacle that became a worldwide sensation. Starring Hugh Jackman\, Michelle Williams and Zac Efron. Rated PG. \nRegistration is required: 262024-3A.
URL:https://restoncommunitycenter.com/event/centerstage-cinema-the-greatest-showman/
LOCATION:The Leila Gordon Theatre\, 2310 Colts Neck Rd.\, Reston\, VA\, 20191\, United States
CATEGORIES:Movies
ATTACH;FMTTYPE=image/jpeg:https://restoncommunitycenter.com/wp-content/uploads/movie-theater-4609877-scaled.jpg
END:VEVENT
END:VCALENDAR