BEGIN:VCALENDAR
VERSION:2.0
PRODID:-//RCC - ECPv6.0.12//NONSGML v1.0//EN
CALSCALE:GREGORIAN
METHOD:PUBLISH
X-WR-CALNAME:RCC
X-ORIGINAL-URL:https://restoncommunitycenter.com
X-WR-CALDESC:Events for RCC
REFRESH-INTERVAL;VALUE=DURATION:PT1H
X-Robots-Tag:noindex
X-PUBLISHED-TTL:PT1H
BEGIN:VTIMEZONE
TZID:America/New_York
BEGIN:DAYLIGHT
TZOFFSETFROM:-0500
TZOFFSETTO:-0400
TZNAME:EDT
DTSTART:20260308T070000
END:DAYLIGHT
BEGIN:STANDARD
TZOFFSETFROM:-0400
TZOFFSETTO:-0500
TZNAME:EST
DTSTART:20261101T060000
END:STANDARD
END:VTIMEZONE
BEGIN:VEVENT
DTSTART;VALUE=DATE:20260701
DTEND;VALUE=DATE:20260801
DTSTAMP:20260422T032852
CREATED:20260415T130025Z
LAST-MODIFIED:20260402T172248Z
UID:39085-1782864000-1785542399@restoncommunitycenter.com
SUMMARY:“Connections that Bind: Art and Friendship” Exhibit
DESCRIPTION:The RAGS Artists of Lake Anne \nReception: Sunday\, June 28\, 2:00 p.m. – 4:00 p.m.
URL:https://restoncommunitycenter.com/event/connections-that-bind-art-and-friendship-exhibit/
LOCATION:RCC Lake Anne\, 1609-A Washington Plaza N\,\, Reston\, VA\, 20190\, United States
CATEGORIES:Visual Arts
ATTACH;FMTTYPE=image/jpeg:https://restoncommunitycenter.com/wp-content/uploads/Manganelli-Antonella.jpg
END:VEVENT
END:VCALENDAR