BEGIN:VCALENDAR
VERSION:2.0
PRODID:-//RCC - ECPv6.0.12//NONSGML v1.0//EN
CALSCALE:GREGORIAN
METHOD:PUBLISH
X-WR-CALNAME:RCC
X-ORIGINAL-URL:https://restoncommunitycenter.com
X-WR-CALDESC:Events for RCC
REFRESH-INTERVAL;VALUE=DURATION:PT1H
X-Robots-Tag:noindex
X-PUBLISHED-TTL:PT1H
BEGIN:VTIMEZONE
TZID:America/New_York
BEGIN:DAYLIGHT
TZOFFSETFROM:-0500
TZOFFSETTO:-0400
TZNAME:EDT
DTSTART:20240310T070000
END:DAYLIGHT
BEGIN:STANDARD
TZOFFSETFROM:-0400
TZOFFSETTO:-0500
TZNAME:EST
DTSTART:20241103T060000
END:STANDARD
END:VTIMEZONE
BEGIN:VEVENT
DTSTART;TZID=America/New_York:20240816T190000
DTEND;TZID=America/New_York:20240816T203000
DTSTAMP:20260422T173258
CREATED:20240415T130031Z
LAST-MODIFIED:20240522T180246Z
UID:33357-1723834800-1723840200@restoncommunitycenter.com
SUMMARY:Fab Fridays Summerbration: Mother’s Little Helpers
DESCRIPTION:Mother’s Little Helpers: Rolling Stones Tribute Band \nInclement weather can cause cancellations; check RCC’s Facebook or call 703-476-4500 close to the event time.\nParking is free at ParkX with validation during these concerts. Three hours free parking. Validation only good at ParkX and not the Metro garage.\nPresented by Reston Community Center and Reston Station in partnership with MSE Productions\, Inc.
URL:https://restoncommunitycenter.com/event/fab-fridays-summerbration-mothers-little-helpers/
LOCATION:Reston Station\, Reston\, 20191
CATEGORIES:Summer Concerts
ATTACH;FMTTYPE=image/webp:https://restoncommunitycenter.com/wp-content/uploads/1660225-HDR.webp
END:VEVENT
END:VCALENDAR