BEGIN:VCALENDAR
VERSION:2.0
PRODID:-//RCC - ECPv6.0.12//NONSGML v1.0//EN
CALSCALE:GREGORIAN
METHOD:PUBLISH
X-WR-CALNAME:RCC
X-ORIGINAL-URL:https://restoncommunitycenter.com
X-WR-CALDESC:Events for RCC
REFRESH-INTERVAL;VALUE=DURATION:PT1H
X-Robots-Tag:noindex
X-PUBLISHED-TTL:PT1H
BEGIN:VTIMEZONE
TZID:America/New_York
BEGIN:DAYLIGHT
TZOFFSETFROM:-0500
TZOFFSETTO:-0400
TZNAME:EDT
DTSTART:20240310T070000
END:DAYLIGHT
BEGIN:STANDARD
TZOFFSETFROM:-0400
TZOFFSETTO:-0500
TZNAME:EST
DTSTART:20241103T060000
END:STANDARD
END:VTIMEZONE
BEGIN:VEVENT
DTSTART;TZID=America/New_York:20241014T120000
DTEND;TZID=America/New_York:20241014T130000
DTSTAMP:20260425T200853
CREATED:20240715T130024Z
LAST-MODIFIED:20240708T181549Z
UID:34274-1728907200-1728910800@restoncommunitycenter.com
SUMMARY:Fall Family Crafternoon
DESCRIPTION:RCC brings fun and interactive crafting activities to you on select teacher workdays at noon offering families creative “together” time. Supplies will be provided. \nThis program is presented in support of the Reston Opportunity Neighborhood initiative. It is sponsored by Reston Community Center.
URL:https://restoncommunitycenter.com/event/fall-family-crafternoon-5/
LOCATION:RCC Hunters Woods\, 2310 Colts Neck Rd.\, Reston\, 20191
CATEGORIES:Family-Friendly
ATTACH;FMTTYPE=image/jpeg:https://restoncommunitycenter.com/wp-content/uploads/crafternoon1.jpg
END:VEVENT
END:VCALENDAR