BEGIN:VCALENDAR
VERSION:2.0
PRODID:-//RCC - ECPv6.0.12//NONSGML v1.0//EN
CALSCALE:GREGORIAN
METHOD:PUBLISH
X-WR-CALNAME:RCC
X-ORIGINAL-URL:https://restoncommunitycenter.com
X-WR-CALDESC:Events for RCC
REFRESH-INTERVAL;VALUE=DURATION:PT1H
X-Robots-Tag:noindex
X-PUBLISHED-TTL:PT1H
BEGIN:VTIMEZONE
TZID:America/New_York
BEGIN:DAYLIGHT
TZOFFSETFROM:-0500
TZOFFSETTO:-0400
TZNAME:EDT
DTSTART:20240310T070000
END:DAYLIGHT
BEGIN:STANDARD
TZOFFSETFROM:-0400
TZOFFSETTO:-0500
TZNAME:EST
DTSTART:20241103T060000
END:STANDARD
END:VTIMEZONE
BEGIN:VEVENT
DTSTART;VALUE=DATE:20240401
DTEND;VALUE=DATE:20240501
DTSTAMP:20260422T095834
CREATED:20231115T140029Z
LAST-MODIFIED:20240404T010514Z
UID:32435-1711929600-1714521599@restoncommunitycenter.com
SUMMARY:Founder’s Day at Lake Anne Exhibit
DESCRIPTION:Art from the League of Reston Artists (LRA). \nReception: Wednesday\, April 17
URL:https://restoncommunitycenter.com/event/founders-day-at-lake-anne-exhibit/
LOCATION:RCC Lake Anne\, 1609-A Washington Plaza N\,\, Reston\, VA\, 20190\, United States
CATEGORIES:Visual Arts
ATTACH;FMTTYPE=image/jpeg:https://restoncommunitycenter.com/wp-content/uploads/5E2E5AA2-5B1F-439C-842A-2D624E2E53F6-2.jpg
END:VEVENT
END:VCALENDAR