BEGIN:VCALENDAR
VERSION:2.0
PRODID:-//RCC - ECPv6.0.12//NONSGML v1.0//EN
CALSCALE:GREGORIAN
METHOD:PUBLISH
X-WR-CALNAME:RCC
X-ORIGINAL-URL:https://restoncommunitycenter.com
X-WR-CALDESC:Events for RCC
REFRESH-INTERVAL;VALUE=DURATION:PT1H
X-Robots-Tag:noindex
X-PUBLISHED-TTL:PT1H
BEGIN:VTIMEZONE
TZID:America/New_York
BEGIN:DAYLIGHT
TZOFFSETFROM:-0500
TZOFFSETTO:-0400
TZNAME:EDT
DTSTART:20250309T070000
END:DAYLIGHT
BEGIN:STANDARD
TZOFFSETFROM:-0400
TZOFFSETTO:-0500
TZNAME:EST
DTSTART:20251102T060000
END:STANDARD
END:VTIMEZONE
BEGIN:VEVENT
DTSTART;TZID=America/New_York:20250718T160000
DTEND;TZID=America/New_York:20250718T180000
DTSTAMP:20260423T064108
CREATED:20250415T130029Z
LAST-MODIFIED:20250718T193156Z
UID:36028-1752854400-1752861600@restoncommunitycenter.com
SUMMARY:Fun Around Town: Cathy Hudgins Community Center
DESCRIPTION:Fun Around Town event at Cathy Hudgins Community Center at Southgate has been canceled due to weather. Thank you for understanding that the safety of patrons is our main priority. \nRCC brings recreation to your neighborhood! Activities include arts and crafts\, games\, music and more. Children age 10 and under must be accompanied by an adult. \nRegister in advance to secure your spot; if space permits\, registration may be available at the door. \nPlease note: In the event of inclement weather\, activities will be canceled and will not be rescheduled \nThese programs are offered in support of the Reston Opportunity Neighborhood program and are sponsored by Reston Community Center. \n 
URL:https://restoncommunitycenter.com/event/fun-around-town-cathy-hudgins-community-center-3/
LOCATION:Cathy Hudgins Community Center at Southgate\, 12125 Pinecrest Road\, Reston\, 20191
CATEGORIES:Family-Friendly
ATTACH;FMTTYPE=image/jpeg:https://restoncommunitycenter.com/wp-content/uploads/52406764089_311bdc41c4_k.jpg
END:VEVENT
END:VCALENDAR