BEGIN:VCALENDAR
VERSION:2.0
PRODID:-//RCC - ECPv6.0.12//NONSGML v1.0//EN
CALSCALE:GREGORIAN
METHOD:PUBLISH
X-WR-CALNAME:RCC
X-ORIGINAL-URL:https://restoncommunitycenter.com
X-WR-CALDESC:Events for RCC
REFRESH-INTERVAL;VALUE=DURATION:PT1H
X-Robots-Tag:noindex
X-PUBLISHED-TTL:PT1H
BEGIN:VTIMEZONE
TZID:America/New_York
BEGIN:DAYLIGHT
TZOFFSETFROM:-0500
TZOFFSETTO:-0400
TZNAME:EDT
DTSTART:20250309T070000
END:DAYLIGHT
BEGIN:STANDARD
TZOFFSETFROM:-0400
TZOFFSETTO:-0500
TZNAME:EST
DTSTART:20251102T060000
END:STANDARD
END:VTIMEZONE
BEGIN:VEVENT
DTSTART;TZID=America/New_York:20250626T160000
DTEND;TZID=America/New_York:20250626T180000
DTSTAMP:20260423T063545
CREATED:20260415T130049Z
LAST-MODIFIED:20260402T190458Z
UID:39108-1750953600-1750960800@restoncommunitycenter.com
SUMMARY:Fun Around Town: Cedar Ridge Neighborhood Center
DESCRIPTION:RCC brings recreation to your neighborhood! Enjoy a fun-filled program with arts and crafts\, games\, music and more for the whole community. \nChildren 10 and under must be accompanied by an adult. \nPlease note: In the event of inclement weather\, activities will be canceled and will not be rescheduled. \nInterested in volunteering? Register at volunteer.fairfaxcounty.gov.
URL:https://restoncommunitycenter.com/event/fun-around-town-cedar-ridge-neighborhood-center-4/
LOCATION:Cedar Ridge Neighborhood Center\, 1601 Becontree Lane\, #1C\, Reston\, 20190
ATTACH;FMTTYPE=image/jpeg:https://restoncommunitycenter.com/wp-content/uploads/52407047183_8b41c0ab03_k.jpg
END:VEVENT
END:VCALENDAR