BEGIN:VCALENDAR
VERSION:2.0
PRODID:-//RCC - ECPv6.0.12//NONSGML v1.0//EN
CALSCALE:GREGORIAN
METHOD:PUBLISH
X-WR-CALNAME:RCC
X-ORIGINAL-URL:https://restoncommunitycenter.com
X-WR-CALDESC:Events for RCC
REFRESH-INTERVAL;VALUE=DURATION:PT1H
X-Robots-Tag:noindex
X-PUBLISHED-TTL:PT1H
BEGIN:VTIMEZONE
TZID:America/New_York
BEGIN:DAYLIGHT
TZOFFSETFROM:-0500
TZOFFSETTO:-0400
TZNAME:EDT
DTSTART:20230312T070000
END:DAYLIGHT
BEGIN:STANDARD
TZOFFSETFROM:-0400
TZOFFSETTO:-0500
TZNAME:EST
DTSTART:20231105T060000
END:STANDARD
BEGIN:DAYLIGHT
TZOFFSETFROM:-0500
TZOFFSETTO:-0400
TZNAME:EDT
DTSTART:20240310T070000
END:DAYLIGHT
BEGIN:STANDARD
TZOFFSETFROM:-0400
TZOFFSETTO:-0500
TZNAME:EST
DTSTART:20241103T060000
END:STANDARD
END:VTIMEZONE
BEGIN:VEVENT
DTSTART;VALUE=DATE:20231127
DTEND;VALUE=DATE:20240109
DTSTAMP:20260422T065039
CREATED:20230921T150633Z
LAST-MODIFIED:20231115T163547Z
UID:31789-1701043200-1704758399@restoncommunitycenter.com
SUMMARY:Gifts from the HeART Exhibit
DESCRIPTION:During the 25th annual “Gifts from the HeART” exhibit artists will display and sell original works of art in watercolor\, oil\, acrylic\, mixed media and photography in the Jo Ann Rose Gallery. Ceramic pieces\, both functional and ornamental\, will be featured in the 3D Gallery along with beadwork\, jewelry\, mosaics\, fused glass and wood works. All entry fees and 10 percent of sales are donated to Cornerstones to support their important work in the community. \nParticipating artists donate 10 percent of their proceeds from sales to help Cornerstones continue their important work\, which includes operation of the Embry Rucker Community Shelter\, the Laurel Learning Center and their Community Services Outreach\, providing job counseling\, emergency food and youth programs. \n“Gifts from the HeART” exhibit brings artists and community members together for a wonderful cause\,” said Cheri Danaher\, RCC’s Arts Education Director. “Through this event\, everyone involved can enjoy fantastic works of art\, celebrate the holidays\, and also support those in need in our area.” \nJoin us for the Shopping Event: Saturday\, December 2 • 10:00 a.m. – 3:00 p.m.
URL:https://restoncommunitycenter.com/event/gifts-from-the-heart-exhibit-2/
LOCATION:RCC Lake Anne\, 1609-A Washington Plaza N\,\, Reston\, VA\, 20190\, United States
ATTACH;FMTTYPE=image/jpeg:https://restoncommunitycenter.com/wp-content/uploads/Dovberg-Sandy-Grammas-Kitchen.jpg
END:VEVENT
END:VCALENDAR