BEGIN:VCALENDAR
VERSION:2.0
PRODID:-//RCC - ECPv6.0.12//NONSGML v1.0//EN
CALSCALE:GREGORIAN
METHOD:PUBLISH
X-WR-CALNAME:RCC
X-ORIGINAL-URL:https://restoncommunitycenter.com
X-WR-CALDESC:Events for RCC
REFRESH-INTERVAL;VALUE=DURATION:PT1H
X-Robots-Tag:noindex
X-PUBLISHED-TTL:PT1H
BEGIN:VTIMEZONE
TZID:America/New_York
BEGIN:DAYLIGHT
TZOFFSETFROM:-0500
TZOFFSETTO:-0400
TZNAME:EDT
DTSTART:20240310T070000
END:DAYLIGHT
BEGIN:STANDARD
TZOFFSETFROM:-0400
TZOFFSETTO:-0500
TZNAME:EST
DTSTART:20241103T060000
END:STANDARD
END:VTIMEZONE
BEGIN:VEVENT
DTSTART;TZID=America/New_York:20241011T173000
DTEND;TZID=America/New_York:20241011T184500
DTSTAMP:20260425T185917
CREATED:20240715T130018Z
LAST-MODIFIED:20240819T170311Z
UID:33999-1728667800-1728672300@restoncommunitycenter.com
SUMMARY:Happy Hour with Darden and Friends: George Mason Jazz Faculty
DESCRIPTION:A wonderful panoply of GMU instructors will play a variety of jazz a variety of jazz styles with featured solos.
URL:https://restoncommunitycenter.com/event/happy-hour-with-darden-and-friends-george-mason-jazz-faculty/
LOCATION:Reston Town Square Park\, 11900 Market St\, Reston\, 20190
CATEGORIES:Music/Concerts
ATTACH;FMTTYPE=image/jpeg:https://restoncommunitycenter.com/wp-content/uploads/D.-Purcell-Cropped-1-scaled.jpeg
END:VEVENT
END:VCALENDAR