BEGIN:VCALENDAR
VERSION:2.0
PRODID:-//RCC - ECPv6.0.12//NONSGML v1.0//EN
CALSCALE:GREGORIAN
METHOD:PUBLISH
X-WR-CALNAME:RCC
X-ORIGINAL-URL:https://restoncommunitycenter.com
X-WR-CALDESC:Events for RCC
REFRESH-INTERVAL;VALUE=DURATION:PT1H
X-Robots-Tag:noindex
X-PUBLISHED-TTL:PT1H
BEGIN:VTIMEZONE
TZID:America/New_York
BEGIN:DAYLIGHT
TZOFFSETFROM:-0500
TZOFFSETTO:-0400
TZNAME:EDT
DTSTART:20240310T070000
END:DAYLIGHT
BEGIN:STANDARD
TZOFFSETFROM:-0400
TZOFFSETTO:-0500
TZNAME:EST
DTSTART:20241103T060000
END:STANDARD
END:VTIMEZONE
BEGIN:VEVENT
DTSTART;TZID=America/New_York:20240607T173000
DTEND;TZID=America/New_York:20240607T184500
DTSTAMP:20260423T050642
CREATED:20240314T150803Z
LAST-MODIFIED:20240605T135649Z
UID:33187-1717781400-1717785900@restoncommunitycenter.com
SUMMARY:Happy Hour with Darden and Friends: Uptown Vocal Jazz Quartet
DESCRIPTION:Uptown Vocal Jazz Quartet: Vocal Jazz \nThere’s no better way to kick off a weekend than to listen to some great jazz in the idyllic setting of Reston Town Square Park curated by local jazz fan favorite\, Darden Purcell\, this series regularly delivers some of the best jazz talent in the region. \nPresented by Reston Community Center and Reston Town Center Association in partnership with Darden Purcell. \nParking in Reston Town Center garages is free after 5:00 p.m.\nInclement weather can cause cancellations; check RCC’s Facebook or call 703-476-4500 close to the event time.
URL:https://restoncommunitycenter.com/event/happy-hour-with-darden-and-friends-uptown-vocal-jazz-quartet/
LOCATION:Reston Town Square Park\, 11900 Market St\, Reston\, 20190
CATEGORIES:Music/Concerts,Summer Concerts
ATTACH;FMTTYPE=image/jpeg:https://restoncommunitycenter.com/wp-content/uploads/Uptown-Vocal-Jazz-Quartet.jpg
END:VEVENT
END:VCALENDAR