BEGIN:VCALENDAR
VERSION:2.0
PRODID:-//RCC - ECPv6.0.12//NONSGML v1.0//EN
CALSCALE:GREGORIAN
METHOD:PUBLISH
X-WR-CALNAME:RCC
X-ORIGINAL-URL:https://restoncommunitycenter.com
X-WR-CALDESC:Events for RCC
REFRESH-INTERVAL;VALUE=DURATION:PT1H
X-Robots-Tag:noindex
X-PUBLISHED-TTL:PT1H
BEGIN:VTIMEZONE
TZID:America/New_York
BEGIN:DAYLIGHT
TZOFFSETFROM:-0500
TZOFFSETTO:-0400
TZNAME:EDT
DTSTART:20240310T070000
END:DAYLIGHT
BEGIN:STANDARD
TZOFFSETFROM:-0400
TZOFFSETTO:-0500
TZNAME:EST
DTSTART:20241103T060000
END:STANDARD
END:VTIMEZONE
BEGIN:VEVENT
DTSTART;TZID=America/New_York:20240926T141500
DTEND;TZID=America/New_York:20240926T153000
DTSTAMP:20260425T105509
CREATED:20240715T130050Z
LAST-MODIFIED:20240611T193250Z
UID:34011-1727360100-1727364600@restoncommunitycenter.com
SUMMARY:Meet the Artists: Linda Monson and Her Studio
DESCRIPTION:Dr. Linda Apple Monson\, International Steinway Artist\, serves as Director of the Dewberry School of Music of George Mason University. This inaugural recital of the Fall Meet the Artists Series will feature Dr. Monson’s phenomenal artists from around the world performing an exciting program of dramatic and lyrical solo piano works by Beethoven\, Chopin\, Rachmaninoff and Ginastera. \nThese programs are a joint venture between Osher Lifelong Learning Institute at George Mason University and Reston Community Center. The Osher Lifelong Learning Institute (OLLI) at George Mason University offers daytime courses\, lectures\, special events and other activities year-round. There are no exams\, no credits\, no college degree required or offered and no age threshold for joining. Learn more online at www.olli.gmu.edu. 
URL:https://restoncommunitycenter.com/event/meet-the-artists-linda-monson-and-her-studio-2/
LOCATION:The Leila Gordon Theatre\, 2310 Colts Neck Rd.\, Reston\, VA\, 20191\, United States
CATEGORIES:Music/Concerts
ATTACH;FMTTYPE=image/jpeg:https://restoncommunitycenter.com/wp-content/uploads/monson-2.jpg
END:VEVENT
END:VCALENDAR