BEGIN:VCALENDAR
VERSION:2.0
PRODID:-//RCC - ECPv6.0.12//NONSGML v1.0//EN
CALSCALE:GREGORIAN
METHOD:PUBLISH
X-WR-CALNAME:RCC
X-ORIGINAL-URL:https://restoncommunitycenter.com
X-WR-CALDESC:Events for RCC
REFRESH-INTERVAL;VALUE=DURATION:PT1H
X-Robots-Tag:noindex
X-PUBLISHED-TTL:PT1H
BEGIN:VTIMEZONE
TZID:America/New_York
BEGIN:DAYLIGHT
TZOFFSETFROM:-0500
TZOFFSETTO:-0400
TZNAME:EDT
DTSTART:20220313T070000
END:DAYLIGHT
BEGIN:STANDARD
TZOFFSETFROM:-0400
TZOFFSETTO:-0500
TZNAME:EST
DTSTART:20221106T060000
END:STANDARD
END:VTIMEZONE
BEGIN:VEVENT
DTSTART;TZID=America/New_York:20221013T141500
DTEND;TZID=America/New_York:20221013T153000
DTSTAMP:20260422T050853
CREATED:20220930T182021Z
LAST-MODIFIED:20230214T201229Z
UID:21620-1665670500-1665675000@restoncommunitycenter.com
SUMMARY:Meet the Artists: Mark Irchai
DESCRIPTION:Osher Lifelong Learning Institute and the CenterStage are favorite venues for Mark Irchai. He returns to share colorful classical works and variations for solo piano by Schubert\, Farrenc\, and Poulenc.
URL:https://restoncommunitycenter.com/event/meet-the-artists-mark-irchai/
LOCATION:The Leila Gordon Theatre\, 2310 Colts Neck Rd.\, Reston\, VA\, 20191\, United States
CATEGORIES:Music/Concerts
ATTACH;FMTTYPE=image/jpeg:https://restoncommunitycenter.com/wp-content/uploads/Mark-Irchai.jpg
END:VEVENT
END:VCALENDAR