BEGIN:VCALENDAR
VERSION:2.0
PRODID:-//RCC - ECPv6.0.12//NONSGML v1.0//EN
CALSCALE:GREGORIAN
METHOD:PUBLISH
X-WR-CALNAME:RCC
X-ORIGINAL-URL:https://restoncommunitycenter.com
X-WR-CALDESC:Events for RCC
REFRESH-INTERVAL;VALUE=DURATION:PT1H
X-Robots-Tag:noindex
X-PUBLISHED-TTL:PT1H
BEGIN:VTIMEZONE
TZID:America/New_York
BEGIN:DAYLIGHT
TZOFFSETFROM:-0500
TZOFFSETTO:-0400
TZNAME:EDT
DTSTART:20240310T070000
END:DAYLIGHT
BEGIN:STANDARD
TZOFFSETFROM:-0400
TZOFFSETTO:-0500
TZNAME:EST
DTSTART:20241103T060000
END:STANDARD
END:VTIMEZONE
BEGIN:VEVENT
DTSTART;TZID=America/New_York:20241017T141500
DTEND;TZID=America/New_York:20241017T153000
DTSTAMP:20260425T230534
CREATED:20240715T130034Z
LAST-MODIFIED:20240611T193949Z
UID:34019-1729174500-1729179000@restoncommunitycenter.com
SUMMARY:Meet the Artists: The Tallwood Trio
DESCRIPTION:The Tallwood Trio\, with Nancy Riley (vocalist)\, Alan Wenberg (piano)\, Ron Musselwhite (drums) and guest artists\, will perform material from the Great American Songbook\, jazz\, and contemporary selections. \nThese programs are a joint venture between Osher Lifelong Learning Institute at George Mason University and Reston Community Center. The Osher Lifelong Learning Institute (OLLI) at George Mason University offers daytime courses\, lectures\, special events and other activities year-round. There are no exams\, no credits\, no college degree required or offered and no age threshold for joining. Learn more online at www.olli.gmu.edu.
URL:https://restoncommunitycenter.com/event/meet-the-artists-the-tallwood-trio/
LOCATION:The Leila Gordon Theatre\, 2310 Colts Neck Rd.\, Reston\, VA\, 20191\, United States
CATEGORIES:Music/Concerts
ATTACH;FMTTYPE=image/png:https://restoncommunitycenter.com/wp-content/uploads/Meet-the-Artist.png
END:VEVENT
END:VCALENDAR