BEGIN:VCALENDAR
VERSION:2.0
PRODID:-//RCC - ECPv6.0.12//NONSGML v1.0//EN
CALSCALE:GREGORIAN
METHOD:PUBLISH
X-WR-CALNAME:RCC
X-ORIGINAL-URL:https://restoncommunitycenter.com
X-WR-CALDESC:Events for RCC
REFRESH-INTERVAL;VALUE=DURATION:PT1H
X-Robots-Tag:noindex
X-PUBLISHED-TTL:PT1H
BEGIN:VTIMEZONE
TZID:America/New_York
BEGIN:DAYLIGHT
TZOFFSETFROM:-0500
TZOFFSETTO:-0400
TZNAME:EDT
DTSTART:20240310T070000
END:DAYLIGHT
BEGIN:STANDARD
TZOFFSETFROM:-0400
TZOFFSETTO:-0500
TZNAME:EST
DTSTART:20241103T060000
END:STANDARD
END:VTIMEZONE
BEGIN:VEVENT
DTSTART;TZID=America/New_York:20240921T110000
DTEND;TZID=America/New_York:20240921T180000
DTSTAMP:20260425T160628
CREATED:20240715T130006Z
LAST-MODIFIED:20240715T174746Z
UID:34041-1726916400-1726941600@restoncommunitycenter.com
SUMMARY:National Heritage Award Fellows: The Zuni Olla Maidens
DESCRIPTION:Talent representing cultures from around the world will be joined by honorees from the National Heritage Fellows and the Virginia Folklife Program. These programs are supported by the National Endowment for the Arts\, Virginia Humanities\, Virginia Department of Education and other protectors of cultural gems. Come join us!
URL:https://restoncommunitycenter.com/event/national-heritage-award-fellows-the-zuni-olla-maidens/
LOCATION:Reston Town Center\, 11900 Market St\, Reston\, VA\, 20191\, United States
CATEGORIES:Theatre/Performing Arts
ATTACH;FMTTYPE=image/jpeg:https://restoncommunitycenter.com/wp-content/uploads/2024-heritage-fellows-zuni-olla-maidens.jpg
END:VEVENT
END:VCALENDAR