BEGIN:VCALENDAR
VERSION:2.0
PRODID:-//RCC - ECPv6.0.12//NONSGML v1.0//EN
CALSCALE:GREGORIAN
METHOD:PUBLISH
X-WR-CALNAME:RCC
X-ORIGINAL-URL:https://restoncommunitycenter.com
X-WR-CALDESC:Events for RCC
REFRESH-INTERVAL;VALUE=DURATION:PT1H
X-Robots-Tag:noindex
X-PUBLISHED-TTL:PT1H
BEGIN:VTIMEZONE
TZID:America/New_York
BEGIN:DAYLIGHT
TZOFFSETFROM:-0500
TZOFFSETTO:-0400
TZNAME:EDT
DTSTART:20240310T070000
END:DAYLIGHT
BEGIN:STANDARD
TZOFFSETFROM:-0400
TZOFFSETTO:-0500
TZNAME:EST
DTSTART:20241103T060000
END:STANDARD
END:VTIMEZONE
BEGIN:VEVENT
DTSTART;TZID=America/New_York:20240921T170000
DTEND;TZID=America/New_York:20240921T190000
DTSTAMP:20260425T144246
CREATED:20240917T143407Z
LAST-MODIFIED:20240917T143407Z
UID:34656-1726938000-1726945200@restoncommunitycenter.com
SUMMARY:Opening Reception | Ebony G. Patterson
DESCRIPTION:Tephra Institute of Contemporary Art (Tephra ICA) presents\, …three kings weep…\, a large-scale video installation by Jamaican-born artist Ebony G. Patterson\, on view September 21–December 14\, 2024\, organized by the Virginia Museum of Fine Arts (VMFA). Join us for the Opening Reception at Tephra ICA on Saturday\, September 21\, from 5–7pm\, featuring a talk by Valerie Cassel Oliver\, the Sydney and Frances Lewis Family Curator of Modern and Contemporary Art at the VMFA.
URL:https://restoncommunitycenter.com/event/opening-reception-ebony-g-patterson/
LOCATION:Tephra ICA\, 12001 Market St\, Reston\, VA\, 20190\, United States
CATEGORIES:Visual Arts
ATTACH;FMTTYPE=image/jpeg:https://restoncommunitycenter.com/wp-content/uploads/kings-2.jpg
END:VEVENT
END:VCALENDAR