BEGIN:VCALENDAR
VERSION:2.0
PRODID:-//RCC - ECPv6.0.12//NONSGML v1.0//EN
CALSCALE:GREGORIAN
METHOD:PUBLISH
X-WR-CALNAME:RCC
X-ORIGINAL-URL:https://restoncommunitycenter.com
X-WR-CALDESC:Events for RCC
REFRESH-INTERVAL;VALUE=DURATION:PT1H
X-Robots-Tag:noindex
X-PUBLISHED-TTL:PT1H
BEGIN:VTIMEZONE
TZID:America/New_York
BEGIN:DAYLIGHT
TZOFFSETFROM:-0500
TZOFFSETTO:-0400
TZNAME:EDT
DTSTART:20240310T070000
END:DAYLIGHT
BEGIN:STANDARD
TZOFFSETFROM:-0400
TZOFFSETTO:-0500
TZNAME:EST
DTSTART:20241103T060000
END:STANDARD
END:VTIMEZONE
BEGIN:VEVENT
DTSTART;TZID=America/New_York:20241207T110000
DTEND;TZID=America/New_York:20241207T110000
DTSTAMP:20260421T055114
CREATED:20240715T130047Z
LAST-MODIFIED:20241120T211533Z
UID:34182-1733569200-1733569200@restoncommunitycenter.com
SUMMARY:Ravel Dance Studio – The Nutcracker
DESCRIPTION:Founded in 1990\, the Ravel Dance Company was formed to give young dancers an opportunity to perform original works of dance in a variety of dance genres so they may be better prepared to enter the professional world of dance or to gain acceptance to a university dance program. The Ravel Dance School educates young dancers through high school in classical ballet and pointe while offering additional opportunities to perform. Through an audition process\, a dancer may be eligible to perform new and innovative works with the Ravel Dance Company. \nClick here for the December 8\, 3:00 p.m. show.
URL:https://restoncommunitycenter.com/event/ravel-dance-studio-the-nutcracker-4/
LOCATION:The Leila Gordon Theatre\, 2310 Colts Neck Rd.\, Reston\, VA\, 20191\, United States
CATEGORIES:Dance
ATTACH;FMTTYPE=image/jpeg:https://restoncommunitycenter.com/wp-content/uploads/Ravel-Nutcracker.jpg
END:VEVENT
END:VCALENDAR