BEGIN:VCALENDAR
VERSION:2.0
PRODID:-//RCC - ECPv6.0.12//NONSGML v1.0//EN
CALSCALE:GREGORIAN
METHOD:PUBLISH
X-WR-CALNAME:RCC
X-ORIGINAL-URL:https://restoncommunitycenter.com
X-WR-CALDESC:Events for RCC
REFRESH-INTERVAL;VALUE=DURATION:PT1H
X-Robots-Tag:noindex
X-PUBLISHED-TTL:PT1H
BEGIN:VTIMEZONE
TZID:America/New_York
BEGIN:DAYLIGHT
TZOFFSETFROM:-0500
TZOFFSETTO:-0400
TZNAME:EDT
DTSTART:20230312T070000
END:DAYLIGHT
BEGIN:STANDARD
TZOFFSETFROM:-0400
TZOFFSETTO:-0500
TZNAME:EST
DTSTART:20231105T060000
END:STANDARD
END:VTIMEZONE
BEGIN:VEVENT
DTSTART;TZID=America/New_York:20230311T160000
DTEND;TZID=America/New_York:20230311T180000
DTSTAMP:20260422T082603
CREATED:20221212T164227Z
LAST-MODIFIED:20230417T201255Z
UID:23916-1678550400-1678557600@restoncommunitycenter.com
SUMMARY:Reston Community Orchestra: Spotlight on Youth
DESCRIPTION:In keeping with tradition\, RCO’s spring concert continues to acknowledge our talented youth. This year we are highlighting 16-year-old student composer Colin Surabian. The rest of the program explores the gamut from well-known artists to those yet-to-be-known. \nSurabian The Tragedy of Macbeth (for Strings) \nStill The Little Red Schoolhouse (Woodwinds) \nHaydn Symphony No. 99 \nPonchielli Dance of the Hours (from “La Gioconda”) \nRCO is an all-volunteer ensemble devoted to the cultural enhancement of the community through the presentation of diverse offerings of symphonic music\, from classical to pops. Maestro Dingwall Fleary\, Reston Community Orchestra’s (RCO) Music Director and Principal Conductor since 1996\, suddenly passed away on December 31\, 2022. Although he can never be replaced\, RCO is seeking a new leader to carry on our vision and help the group continue to thrive.  With support from grants\, and contributions from local businesses\, corporations\, audiences and its performing members\, the RCO performs low-cost concerts\, fulfilling its pledge to provide “Great Music for a Great Community!” \nFree for Youth (17 and younger)\, Free for Active Military/First Responder. 
URL:https://restoncommunitycenter.com/event/reston-community-orchestra-nvtma-woodwind-winner/
LOCATION:RCC Hunters Woods\, 2310 Colts Neck Rd.\, Reston\, 20191
CATEGORIES:Music/Concerts
ATTACH;FMTTYPE=image/jpeg:https://restoncommunitycenter.com/wp-content/uploads/REston-community-orch.jpg
END:VEVENT
END:VCALENDAR