BEGIN:VCALENDAR
VERSION:2.0
PRODID:-//RCC - ECPv6.0.12//NONSGML v1.0//EN
CALSCALE:GREGORIAN
METHOD:PUBLISH
X-WR-CALNAME:RCC
X-ORIGINAL-URL:https://restoncommunitycenter.com
X-WR-CALDESC:Events for RCC
REFRESH-INTERVAL;VALUE=DURATION:PT1H
X-Robots-Tag:noindex
X-PUBLISHED-TTL:PT1H
BEGIN:VTIMEZONE
TZID:America/New_York
BEGIN:DAYLIGHT
TZOFFSETFROM:-0500
TZOFFSETTO:-0400
TZNAME:EDT
DTSTART:20220313T070000
END:DAYLIGHT
BEGIN:STANDARD
TZOFFSETFROM:-0400
TZOFFSETTO:-0500
TZNAME:EST
DTSTART:20221106T060000
END:STANDARD
END:VTIMEZONE
BEGIN:VEVENT
DTSTART;TZID=America/New_York:20221015T160000
DTEND;TZID=America/New_York:20221015T180000
DTSTAMP:20260422T082703
CREATED:20220930T182020Z
LAST-MODIFIED:20230417T201326Z
UID:21610-1665849600-1665856800@restoncommunitycenter.com
SUMMARY:Reston Community Orchestra: A Journey Into Sound
DESCRIPTION:The Reston Community Orchestra presents A Journey into Sound.
URL:https://restoncommunitycenter.com/event/reston-community-orchestra-the-phantom-of-the-opera/
LOCATION:RCC Hunters Woods\, 2310 Colts Neck Rd.\, Reston\, 20191
CATEGORIES:Music/Concerts
ATTACH;FMTTYPE=image/jpeg:https://restoncommunitycenter.com/wp-content/uploads/movie-theater-4609877-scaled.jpg
END:VEVENT
END:VCALENDAR