BEGIN:VCALENDAR
VERSION:2.0
PRODID:-//RCC - ECPv6.0.12//NONSGML v1.0//EN
CALSCALE:GREGORIAN
METHOD:PUBLISH
X-WR-CALNAME:RCC
X-ORIGINAL-URL:https://restoncommunitycenter.com
X-WR-CALDESC:Events for RCC
REFRESH-INTERVAL;VALUE=DURATION:PT1H
X-Robots-Tag:noindex
X-PUBLISHED-TTL:PT1H
BEGIN:VTIMEZONE
TZID:America/New_York
BEGIN:DAYLIGHT
TZOFFSETFROM:-0500
TZOFFSETTO:-0400
TZNAME:EDT
DTSTART:20240310T070000
END:DAYLIGHT
BEGIN:STANDARD
TZOFFSETFROM:-0400
TZOFFSETTO:-0500
TZNAME:EST
DTSTART:20241103T060000
END:STANDARD
END:VTIMEZONE
BEGIN:VEVENT
DTSTART;TZID=America/New_York:20240921T110000
DTEND;TZID=America/New_York:20240921T180000
DTSTAMP:20260425T200818
CREATED:20240415T130018Z
LAST-MODIFIED:20240822T183025Z
UID:33223-1726916400-1726941600@restoncommunitycenter.com
SUMMARY:Reston Multicultural Festival
DESCRIPTION:The annual Reston Multicultural Festival celebrates our rich diversity through song\, dance\, food and art. Learn about our mosaic of cultures as the community gathers for a delightful day in Reston Town Center. Come enjoy Reston’s diversity\, one of our community’s greatest assets. If you are Interested in being part of the entertainment or storytelling\, or craft vendors (quality product representing a culture) application forms will be on the website in April. All are encouraged to dress in attire that shares their pride in their cultural roots. \nClick here to read more about Reston Multicultural Festival. \nReston Community Center is proud to present the Reston Multicultural Festival in partnership with Reston Town Center\,\nReston Town Center Association and BXP. Volunteer coordination is provided by Reston Association.
URL:https://restoncommunitycenter.com/event/reston-multicultural-festival-3/
LOCATION:Reston Town Center\, 11900 Market St\, Reston\, VA\, 20191\, United States
CATEGORIES:Family-Friendly,Music/Concerts,Theatre/Performing Arts,Visual Arts
ATTACH;FMTTYPE=image/jpeg:https://restoncommunitycenter.com/wp-content/uploads/20180922-084-Reston-Multicultural-Festival-1-scaled.jpg
END:VEVENT
END:VCALENDAR