BEGIN:VCALENDAR
VERSION:2.0
PRODID:-//RCC - ECPv6.0.12//NONSGML v1.0//EN
CALSCALE:GREGORIAN
METHOD:PUBLISH
X-WR-CALNAME:RCC
X-ORIGINAL-URL:https://restoncommunitycenter.com
X-WR-CALDESC:Events for RCC
REFRESH-INTERVAL;VALUE=DURATION:PT1H
X-Robots-Tag:noindex
X-PUBLISHED-TTL:PT1H
BEGIN:VTIMEZONE
TZID:America/New_York
BEGIN:DAYLIGHT
TZOFFSETFROM:-0500
TZOFFSETTO:-0400
TZNAME:EDT
DTSTART:20260308T070000
END:DAYLIGHT
BEGIN:STANDARD
TZOFFSETFROM:-0400
TZOFFSETTO:-0500
TZNAME:EST
DTSTART:20261101T060000
END:STANDARD
END:VTIMEZONE
BEGIN:VEVENT
DTSTART;TZID=America/New_York:20260919T110000
DTEND;TZID=America/New_York:20260919T180000
DTSTAMP:20260419T154219
CREATED:20260415T130045Z
LAST-MODIFIED:20260402T154047Z
UID:39056-1789815600-1789840800@restoncommunitycenter.com
SUMMARY:Reston Multicultural Festival
DESCRIPTION:In its 25th year\, the Reston Multicultural Festival celebrates the richness of global communities\, creating an authentic space where traditions are honored\, heritage is lived and stories are shared.  \nReston Community Center is proud to present the Reston Multicultural Festival in partnership with Reston Town Center\, Reston Town Center Association and BXP.Volunteer coordination is provided by Reston Association. \nClick here to read more about Reston Multicultural Festival.
URL:https://restoncommunitycenter.com/event/reston-multicultural-festival-5/
LOCATION:Reston Town Center\, 11900 Market St\, Reston\, VA\, 20191\, United States
CATEGORIES:Family-Friendly,Music/Concerts,Theatre/Performing Arts,Visual Arts
ATTACH;FMTTYPE=image/png:https://restoncommunitycenter.com/wp-content/uploads/MCF-3.png
END:VEVENT
END:VCALENDAR