BEGIN:VCALENDAR
VERSION:2.0
PRODID:-//RCC - ECPv6.0.12//NONSGML v1.0//EN
CALSCALE:GREGORIAN
METHOD:PUBLISH
X-WR-CALNAME:RCC
X-ORIGINAL-URL:https://restoncommunitycenter.com
X-WR-CALDESC:Events for RCC
REFRESH-INTERVAL;VALUE=DURATION:PT1H
X-Robots-Tag:noindex
X-PUBLISHED-TTL:PT1H
BEGIN:VTIMEZONE
TZID:America/New_York
BEGIN:DAYLIGHT
TZOFFSETFROM:-0500
TZOFFSETTO:-0400
TZNAME:EDT
DTSTART:20250309T070000
END:DAYLIGHT
BEGIN:STANDARD
TZOFFSETFROM:-0400
TZOFFSETTO:-0500
TZNAME:EST
DTSTART:20251102T060000
END:STANDARD
END:VTIMEZONE
BEGIN:VEVENT
DTSTART;TZID=America/New_York:20250515T180000
DTEND;TZID=America/New_York:20250515T193000
DTSTAMP:20260424T082004
CREATED:20241115T192514Z
LAST-MODIFIED:20250423T144143Z
UID:35244-1747332000-1747337400@restoncommunitycenter.com
SUMMARY:Reston Plant Swap
DESCRIPTION:Bring a pest-free houseplant (or two)\, potted or bare root\, but in a container\, to swap out with the community. Please don’t bring invasives. Learn different growing tips and techniques and share plant stories. Participants may also bring any plant supplies they wish to donate. \nRegistration is required# 862000-5B.
URL:https://restoncommunitycenter.com/event/reston-plant-swap-5/
LOCATION:The Farm at Halley Rise\, 2025 Fulton Place\, Reston\, VA\, 20191\, United States
ATTACH;FMTTYPE=image/png:https://restoncommunitycenter.com/wp-content/uploads/Plant-Swap.png
END:VEVENT
END:VCALENDAR