BEGIN:VCALENDAR
VERSION:2.0
PRODID:-//RCC - ECPv6.0.12//NONSGML v1.0//EN
CALSCALE:GREGORIAN
METHOD:PUBLISH
X-WR-CALNAME:RCC
X-ORIGINAL-URL:https://restoncommunitycenter.com
X-WR-CALDESC:Events for RCC
REFRESH-INTERVAL;VALUE=DURATION:PT1H
X-Robots-Tag:noindex
X-PUBLISHED-TTL:PT1H
BEGIN:VTIMEZONE
TZID:America/New_York
BEGIN:DAYLIGHT
TZOFFSETFROM:-0500
TZOFFSETTO:-0400
TZNAME:EDT
DTSTART:20250309T070000
END:DAYLIGHT
BEGIN:STANDARD
TZOFFSETFROM:-0400
TZOFFSETTO:-0500
TZNAME:EST
DTSTART:20251102T060000
END:STANDARD
END:VTIMEZONE
BEGIN:VEVENT
DTSTART;TZID=America/New_York:20250622T190000
DTEND;TZID=America/New_York:20250622T200000
DTSTAMP:20260421T112904
CREATED:20250415T130011Z
LAST-MODIFIED:20250407T154616Z
UID:36215-1750618800-1750622400@restoncommunitycenter.com
SUMMARY:Sunday Art in the Park with Shenandoah Conservatory: ClarVoice Trio
DESCRIPTION:Pack a picnic and join the renowned Shenandoah Conservatory on Sunday evenings this summer. \n  \nClarVoice Trio: Romantic & Inspiring Works \nShenandoah Conservatory’s Professor of Clarinet Garrick Zoeter and soprano Mariana Mihai-Zoeter interpret romantic and inspiring works from around the world\, as well as uplifting jazz and classically inflected music\, guaranteed to lift your spirit. \n  \nInclement weather can cause event cancellations; check RCC’s Facebook/X pages or call 703-476-4500 close to the event time.\nPresented by Reston Community Center and Reston Town Center Association in partnership with Shenandoah Conservatory.
URL:https://restoncommunitycenter.com/event/sunday-art-in-the-park-with-shenandoah-conservatory-clarvoice-trio-3/
LOCATION:Reston Town Square Park\, 11900 Market St\, Reston\, 20190
CATEGORIES:Summer Concerts
ATTACH;FMTTYPE=image/png:https://restoncommunitycenter.com/wp-content/uploads/Sunday-Art-in-the-Park-Photo.png
END:VEVENT
END:VCALENDAR