BEGIN:VCALENDAR
VERSION:2.0
PRODID:-//RCC - ECPv6.0.12//NONSGML v1.0//EN
CALSCALE:GREGORIAN
METHOD:PUBLISH
X-WR-CALNAME:RCC
X-ORIGINAL-URL:https://restoncommunitycenter.com
X-WR-CALDESC:Events for RCC
REFRESH-INTERVAL;VALUE=DURATION:PT1H
X-Robots-Tag:noindex
X-PUBLISHED-TTL:PT1H
BEGIN:VTIMEZONE
TZID:America/New_York
BEGIN:DAYLIGHT
TZOFFSETFROM:-0500
TZOFFSETTO:-0400
TZNAME:EDT
DTSTART:20260308T070000
END:DAYLIGHT
BEGIN:STANDARD
TZOFFSETFROM:-0400
TZOFFSETTO:-0500
TZNAME:EST
DTSTART:20261101T060000
END:STANDARD
END:VTIMEZONE
BEGIN:VEVENT
DTSTART;TZID=America/New_York:20260809T190000
DTEND;TZID=America/New_York:20260809T200000
DTSTAMP:20260425T213311
CREATED:20260415T130008Z
LAST-MODIFIED:20260317T180556Z
UID:38918-1786302000-1786305600@restoncommunitycenter.com
SUMMARY:Sunday Art in the Park with Shenandoah Conservatory: Shenandoah Guitars
DESCRIPTION:Shenandoah Guitars \nVibrant Rhythms of Latin America on Guitar \n Guitar music from Argentina\, Venezuela\, Paraguay\, Cuba and more showcases Latin America’s wide range of musical styles\, vibrant rhythms and lush melodies in a performance by Shenandoah Conservatory’s Director of Guitar Studio Colin Davin and students. \nInclement weather can cause event cancellations; check RCC’s Facebook/X pages or call 703-476-4500 close to the event time.\nPresented by Reston Community Center and Reston Town Center Association in partnership with Shenandoah Conservatory.
URL:https://restoncommunitycenter.com/event/sunday-art-in-the-park-with-shenandoah-conservatory-shenandoah-guitars/
LOCATION:Reston Town Square Park\, 11900 Market St\, Reston\, 20190
CATEGORIES:Summer Concerts
ATTACH;FMTTYPE=image/png:https://restoncommunitycenter.com/wp-content/uploads/Sunday-Art-in-the-Park-Photo.png
END:VEVENT
END:VCALENDAR