BEGIN:VCALENDAR
VERSION:2.0
PRODID:-//RCC - ECPv6.0.12//NONSGML v1.0//EN
CALSCALE:GREGORIAN
METHOD:PUBLISH
X-WR-CALNAME:RCC
X-ORIGINAL-URL:https://restoncommunitycenter.com
X-WR-CALDESC:Events for RCC
REFRESH-INTERVAL;VALUE=DURATION:PT1H
X-Robots-Tag:noindex
X-PUBLISHED-TTL:PT1H
BEGIN:VTIMEZONE
TZID:America/New_York
BEGIN:DAYLIGHT
TZOFFSETFROM:-0500
TZOFFSETTO:-0400
TZNAME:EDT
DTSTART:20260308T070000
END:DAYLIGHT
BEGIN:STANDARD
TZOFFSETFROM:-0400
TZOFFSETTO:-0500
TZNAME:EST
DTSTART:20261101T060000
END:STANDARD
END:VTIMEZONE
BEGIN:VEVENT
DTSTART;TZID=America/New_York:20260712T190000
DTEND;TZID=America/New_York:20260712T200000
DTSTAMP:20260425T213339
CREATED:20260415T130032Z
LAST-MODIFIED:20260317T175802Z
UID:38907-1783882800-1783886400@restoncommunitycenter.com
SUMMARY:Sunday Art in the Park with Shenandoah Conservatory: Strings of Elegance
DESCRIPTION:Strings of Elegance: A Musical Soirée \nPopular Hits & Classical Compositions by Top String Students \n Shenandoah Conservatory’s Professor of Violin Akemi Takayama leads some of the conservatory’s top string students in a captivating blend of popular hits and classical compositions. \nInclement weather can cause event cancellations; check RCC’s Facebook/X pages or call 703-476-4500 close to the event time.\nPresented by Reston Community Center and Reston Town Center Association in partnership with Shenandoah Conservatory.
URL:https://restoncommunitycenter.com/event/sunday-art-in-the-park-with-shenandoah-conservatory-strings-of-elegance/
LOCATION:Reston Town Square Park\, 11900 Market St\, Reston\, 20190
CATEGORIES:Summer Concerts
ATTACH;FMTTYPE=image/png:https://restoncommunitycenter.com/wp-content/uploads/Sunday-Art-in-the-Park-Photo.png
END:VEVENT
END:VCALENDAR