BEGIN:VCALENDAR
VERSION:2.0
PRODID:-//RCC - ECPv6.0.12//NONSGML v1.0//EN
CALSCALE:GREGORIAN
METHOD:PUBLISH
X-WR-CALNAME:RCC
X-ORIGINAL-URL:https://restoncommunitycenter.com
X-WR-CALDESC:Events for RCC
REFRESH-INTERVAL;VALUE=DURATION:PT1H
X-Robots-Tag:noindex
X-PUBLISHED-TTL:PT1H
BEGIN:VTIMEZONE
TZID:America/New_York
BEGIN:DAYLIGHT
TZOFFSETFROM:-0500
TZOFFSETTO:-0400
TZNAME:EDT
DTSTART:20240310T070000
END:DAYLIGHT
BEGIN:STANDARD
TZOFFSETFROM:-0400
TZOFFSETTO:-0500
TZNAME:EST
DTSTART:20241103T060000
END:STANDARD
END:VTIMEZONE
BEGIN:VEVENT
DTSTART;TZID=America/New_York:20240627T190000
DTEND;TZID=America/New_York:20240627T203000
DTSTAMP:20260420T070527
CREATED:20240415T130024Z
LAST-MODIFIED:20240605T134027Z
UID:33309-1719514800-1719520200@restoncommunitycenter.com
SUMMARY:Take a Break: Texas Chainsaw Horns
DESCRIPTION:Texas Chainsaw Horns: Rock and Traditional R&B Dance Night \nTake a Break Thursdays at Halley Rise will feature lively music from all genres. The talent comes from all over the mid-Atlantic to fill a beautiful space with music. Bring a chair or a blanket and relax in a great setting. \nInclement weather can cause cancellations; check RCC’s Facebook or call 703-476-4500 close to the event time.\nFree parking available on surface lots or at the Wegmans’ parking garage. \nPresented by Reston Community Center in cooperation with MSE Productions\, Inc.
URL:https://restoncommunitycenter.com/event/take-a-break-texas-chainsaw-horns-2/
LOCATION:Halley Rise\, 2025 Fulton Place\, Reston\, VA\, 20191
CATEGORIES:Summer Concerts
ATTACH;FMTTYPE=image/jpeg:https://restoncommunitycenter.com/wp-content/uploads/Texas-Chainsaw-Horns-MSE-Productions.jpeg
END:VEVENT
END:VCALENDAR