BEGIN:VCALENDAR
VERSION:2.0
PRODID:-//RCC - ECPv6.0.12//NONSGML v1.0//EN
CALSCALE:GREGORIAN
METHOD:PUBLISH
X-WR-CALNAME:RCC
X-ORIGINAL-URL:https://restoncommunitycenter.com
X-WR-CALDESC:Events for RCC
REFRESH-INTERVAL;VALUE=DURATION:PT1H
X-Robots-Tag:noindex
X-PUBLISHED-TTL:PT1H
BEGIN:VTIMEZONE
TZID:America/New_York
BEGIN:DAYLIGHT
TZOFFSETFROM:-0500
TZOFFSETTO:-0400
TZNAME:EDT
DTSTART:20250309T070000
END:DAYLIGHT
BEGIN:STANDARD
TZOFFSETFROM:-0400
TZOFFSETTO:-0500
TZNAME:EST
DTSTART:20251102T060000
END:STANDARD
END:VTIMEZONE
BEGIN:VEVENT
DTSTART;TZID=America/New_York:20250605T190000
DTEND;TZID=America/New_York:20250605T203000
DTSTAMP:20260421T055152
CREATED:20250415T130004Z
LAST-MODIFIED:20250325T164942Z
UID:36031-1749150000-1749155400@restoncommunitycenter.com
SUMMARY:Take a Break: Texas Chainsaw Horns
DESCRIPTION:Texas Chainsaw Horns: Rock & Traditional Blues\nHigh-energy performances and tight\, blues-infused arrangements. \nJoin us for unforgettable summer evenings filled with vibrant music from talented artists from across the Mid-Atlantic in a stunning setting. \nInclement weather can cause event cancellations; check RCC’s Facebook/X pages or call 703-476-4500 close to the event time.\nPresented by Reston Community Center and Halley Rise in partnership with MSE Productions\, Inc.
URL:https://restoncommunitycenter.com/event/take-a-break-texas-chainsaw-horns-3/
LOCATION:Halley Rise\, 2025 Fulton Place\, Reston\, VA\, 20191
CATEGORIES:Summer Concerts
ATTACH;FMTTYPE=image/jpeg:https://restoncommunitycenter.com/wp-content/uploads/Texas-Chainsaw-Horns-MSE-Productions.jpeg
END:VEVENT
END:VCALENDAR