BEGIN:VCALENDAR
VERSION:2.0
PRODID:-//RCC - ECPv6.0.12//NONSGML v1.0//EN
CALSCALE:GREGORIAN
METHOD:PUBLISH
X-WR-CALNAME:RCC
X-ORIGINAL-URL:https://restoncommunitycenter.com
X-WR-CALDESC:Events for RCC
REFRESH-INTERVAL;VALUE=DURATION:PT1H
X-Robots-Tag:noindex
X-PUBLISHED-TTL:PT1H
BEGIN:VTIMEZONE
TZID:America/New_York
BEGIN:DAYLIGHT
TZOFFSETFROM:-0500
TZOFFSETTO:-0400
TZNAME:EDT
DTSTART:20240310T070000
END:DAYLIGHT
BEGIN:STANDARD
TZOFFSETFROM:-0400
TZOFFSETTO:-0500
TZNAME:EST
DTSTART:20241103T060000
END:STANDARD
END:VTIMEZONE
BEGIN:VEVENT
DTSTART;TZID=America/New_York:20240519T110000
DTEND;TZID=America/New_York:20240519T180000
DTSTAMP:20260425T110112
CREATED:20231115T140031Z
LAST-MODIFIED:20231101T160709Z
UID:32206-1716116400-1716141600@restoncommunitycenter.com
SUMMARY:Tephra ICA Arts Festival
DESCRIPTION:Join Tephra Institute of Contemporary Art (Tephra ICA) for the Tephra ICA Arts Festival. This special weekend brings hundreds of artists from around the country with high-quality\, hand-crafted\, one-of-a-kind artworks to our neighborhood. The Tephra ICA Arts Festival is presented in the dynamic setting of Reston Town Center and provides the opportunity to make new friends and purchase art from exceptional artists. Visitors to the festival will also enjoy innovative performances and creative hands-on art projects.  \nThe Festival is produced as a fundraiser for Tephra ICA. Art sales directly benefit the participating artists. To learn about volunteering\, sponsoring and other ways to get involved\, please visit www.tephraica.org/festival.  \nFree parking is available in all Reston Town Center garages for the festival weekend (Saturday – Sunday) courtesy of BXP. Reston Community Center is a proud sponsor of the Tephra ICA Festival.
URL:https://restoncommunitycenter.com/event/tephra-ica-arts-festival-2/
LOCATION:Reston Town Center\, 11900 Market St\, Reston\, VA\, 20191\, United States
CATEGORIES:Family-Friendly,Visual Arts
ATTACH;FMTTYPE=image/jpeg:https://restoncommunitycenter.com/wp-content/uploads/LP_0486_M-2_0466-scaled.jpg
END:VEVENT
END:VCALENDAR