BEGIN:VCALENDAR
VERSION:2.0
PRODID:-//RCC - ECPv6.0.12//NONSGML v1.0//EN
CALSCALE:GREGORIAN
METHOD:PUBLISH
X-WR-CALNAME:RCC
X-ORIGINAL-URL:https://restoncommunitycenter.com
X-WR-CALDESC:Events for RCC
REFRESH-INTERVAL;VALUE=DURATION:PT1H
X-Robots-Tag:noindex
X-PUBLISHED-TTL:PT1H
BEGIN:VTIMEZONE
TZID:America/New_York
BEGIN:DAYLIGHT
TZOFFSETFROM:-0500
TZOFFSETTO:-0400
TZNAME:EDT
DTSTART:20250309T070000
END:DAYLIGHT
BEGIN:STANDARD
TZOFFSETFROM:-0400
TZOFFSETTO:-0500
TZNAME:EST
DTSTART:20251102T060000
END:STANDARD
END:VTIMEZONE
BEGIN:VEVENT
DTSTART;TZID=America/New_York:20250315T200000
DTEND;TZID=America/New_York:20250315T200000
DTSTAMP:20260423T064056
CREATED:20240715T130007Z
LAST-MODIFIED:20240809T144046Z
UID:34100-1742068800-1742068800@restoncommunitycenter.com
SUMMARY:Yumi Kurosawa Trio
DESCRIPTION:Yumi Kurosawa was born and raised in a traditional Japanese music environment\, taking up the Koto from a young age and rising quickly to the upper echelons of her craft. Ever since she was a teenager\, however\, she has surrounded herself with contemporary music by Western composers\, integrating their melodies and phrasings into her solo Koto performances. \nYumi is joined by violinist Naho Parrini and percussionist Yousif Sheronick. Their program features exhilarating new compositions from Yumi alongside striking reinterpretations of favorites from her oeuvre\, highlighting the shared affinity between these seemingly disparate instruments. The trio form allows Yumi to expand her solo compositions into dynamic and multi-faceted performances that encompass a wide range of expressions and dimensions.
URL:https://restoncommunitycenter.com/event/yumi-kurosawa-trio/
LOCATION:The Leila Gordon Theatre\, 2310 Colts Neck Rd.\, Reston\, VA\, 20191\, United States
CATEGORIES:Theatre/Performing Arts
ATTACH;FMTTYPE=image/jpeg:https://restoncommunitycenter.com/wp-content/uploads/53782384735_b8e18b0be3_o-scaled.jpg
END:VEVENT
END:VCALENDAR