BEGIN:VCALENDAR
VERSION:2.0
PRODID:-//RCC - ECPv6.0.12//NONSGML v1.0//EN
CALSCALE:GREGORIAN
METHOD:PUBLISH
X-WR-CALNAME:RCC
X-ORIGINAL-URL:https://restoncommunitycenter.com
X-WR-CALDESC:Events for RCC
REFRESH-INTERVAL;VALUE=DURATION:PT1H
X-Robots-Tag:noindex
X-PUBLISHED-TTL:PT1H
BEGIN:VTIMEZONE
TZID:America/New_York
BEGIN:DAYLIGHT
TZOFFSETFROM:-0500
TZOFFSETTO:-0400
TZNAME:EDT
DTSTART:20260308T070000
END:DAYLIGHT
BEGIN:STANDARD
TZOFFSETFROM:-0400
TZOFFSETTO:-0500
TZNAME:EST
DTSTART:20261101T060000
END:STANDARD
END:VTIMEZONE
BEGIN:VEVENT
DTSTART;TZID=America/New_York:20260425T090000
DTEND;TZID=America/New_York:20260425T110000
DTSTAMP:20260425T094238
CREATED:20250307T155050Z
LAST-MODIFIED:20251110T162421Z
UID:10003077-1777107600-1777114800@restoncommunitycenter.com
SUMMARY:RCC Community Coffee
DESCRIPTION:Walk in to enjoy coffee\, a breakfast bite and fellowship. Saturday mornings at RCC Hunters Woods. All are welcome! \n 
URL:https://restoncommunitycenter.com/event/rcc-community-coffee-3-3-6-2/2026-04-25/
LOCATION:RCC Hunters Woods\, 2310 Colts Neck Rd.\, Reston\, 20191
CATEGORIES:Family-Friendly
ATTACH;FMTTYPE=image/png:https://restoncommunitycenter.com/wp-content/uploads/Community-Coffee.png
END:VEVENT
BEGIN:VEVENT
DTSTART;TZID=America/New_York:20260425T100000
DTEND;TZID=America/New_York:20260425T120000
DTSTAMP:20260425T094238
CREATED:20260106T142412Z
LAST-MODIFIED:20260402T193341Z
UID:10003195-1777111200-1777118400@restoncommunitycenter.com
SUMMARY:Neighborhood Cleanup
DESCRIPTION:Meet in front of RCC Hunters Woods for a neighborhood cleanup led by Ha Brock\, RA’s Volunteer Reston Manager. Please wear long pants and bring work gloves. “Grabbers” and trash bags will be provided. \nCome early to get a cup of coffee and a donut or bagel at the Community Coffee\, starting at 9:00 a.m. \nIf you would like to volunteer\, please contact Ha Brock\, Volunteer Reston Manager\, at ha@reston.org.
URL:https://restoncommunitycenter.com/event/neighborhood-cleanup/
LOCATION:RCC Hunters Woods\, 2310 Colts Neck Rd.\, Reston\, 20191
ATTACH;FMTTYPE=image/jpeg:https://restoncommunitycenter.com/wp-content/uploads/50885904867_83be317070_o-scaled.jpg
END:VEVENT
BEGIN:VEVENT
DTSTART;TZID=America/New_York:20260425T110000
DTEND;TZID=America/New_York:20260425T173000
DTSTAMP:20260425T094238
CREATED:20260407T125700Z
LAST-MODIFIED:20260407T145822Z
UID:10004198-1777114800-1777138200@restoncommunitycenter.com
SUMMARY:2026 ChalkFest at Reston Town Center's eARTh Day
DESCRIPTION:Fun\, art\, and Earth! \nChalkFest at eARTh Day 2026 will turn the streets into an outdoor colorful canvas as we celebrate Earth Day! \nThis event is FREE to attend but to chalk and participate to win prizes you must register at https://bit.ly/4beRjwP or on our website https://publicartreston.org/earth-day-chalkfest-2026/
URL:https://restoncommunitycenter.com/event/2026-chalkfest-at-reston-town-centers-earth-day/
LOCATION:Reston Town Square Park\, 11900 Market St\, Reston\, 20190
ATTACH;FMTTYPE=image/png:https://restoncommunitycenter.com/wp-content/uploads/Chalk-Fest.png
END:VEVENT
BEGIN:VEVENT
DTSTART;TZID=America/New_York:20260425T200000
DTEND;TZID=America/New_York:20260425T200000
DTSTAMP:20260425T094238
CREATED:20250908T142955Z
LAST-MODIFIED:20250915T140115Z
UID:10003032-1777147200-1777147200@restoncommunitycenter.com
SUMMARY:Reston Community Players: “A Funny Thing Happened on the Way to the Forum”
DESCRIPTION:Reston Community Players (RCP) continue their tradition of artistic excellence with touching\, funny and timeless productions. RCP has been delighting audiences since 1966. Be sure you get in on the fun. \n“A Funny Thing Happened on the Way to the Forum”\nBook by Larry Gelbart and Bert Shevelove\nMusic and Lyrics by Stephen Sondheim \nOne of the funniest musicals ever to hit Broadway\, this show is pure “Comedy Tonight” with all of the elements of classic Farce\, Roman Comedy and the very best of American vaudeville traditions and featuring Stephen Sondheim’s first full score for a Broadway musical! \nThe Reston Community Players is supported in part by ArtsFairfax. \nAppropriate for Broadway Audiences in 1962\, several characters are enslaved\, bawdy humor\, suggestive dancing and mild stage combat.
URL:https://restoncommunitycenter.com/event/reston-community-players-a-funny-thing-happened-on-the-way-to-the-forum-4/
LOCATION:The Leila Gordon Theatre\, 2310 Colts Neck Rd.\, Reston\, VA\, 20191\, United States
CATEGORIES:Theatre/Performing Arts
ATTACH;FMTTYPE=image/png:https://restoncommunitycenter.com/wp-content/uploads/A-Funny-Thing-Happened-on-the-Way-to-the-Forum.png
END:VEVENT
END:VCALENDAR