BEGIN:VCALENDAR
VERSION:2.0
PRODID:-//RCC - ECPv6.0.12//NONSGML v1.0//EN
CALSCALE:GREGORIAN
METHOD:PUBLISH
X-ORIGINAL-URL:https://restoncommunitycenter.com
X-WR-CALDESC:Events for RCC
REFRESH-INTERVAL;VALUE=DURATION:PT1H
X-Robots-Tag:noindex
X-PUBLISHED-TTL:PT1H
BEGIN:VTIMEZONE
TZID:America/New_York
BEGIN:DAYLIGHT
TZOFFSETFROM:-0500
TZOFFSETTO:-0400
TZNAME:EDT
DTSTART:20260308T070000
END:DAYLIGHT
BEGIN:STANDARD
TZOFFSETFROM:-0400
TZOFFSETTO:-0500
TZNAME:EST
DTSTART:20261101T060000
END:STANDARD
END:VTIMEZONE
BEGIN:VEVENT
DTSTART;TZID=America/New_York:20260502T200000
DTEND;TZID=America/New_York:20260502T200000
DTSTAMP:20260423T092608
CREATED:20250908T143312Z
LAST-MODIFIED:20250908T143312Z
UID:10003035-1777752000-1777752000@restoncommunitycenter.com
SUMMARY:Reston Community Players: “A Funny Thing Happened on the Way to the Forum”
DESCRIPTION:Reston Community Players (RCP) continue their tradition of artistic excellence with touching\, funny and timeless productions. RCP has been delighting audiences since 1966. Be sure you get in on the fun. \n“A Funny Thing Happened on the Way to the Forum”\nBook by Larry Gelbart and Bert Shevelove\nMusic and Lyrics by Stephen Sondheim \nOne of the funniest musicals ever to hit Broadway\, this show is pure “Comedy Tonight” with all of the elements of classic Farce\, Roman Comedy and the very best of American vaudeville traditions and featuring Stephen Sondheim’s first full score for a Broadway musical! \nThe Reston Community Players is supported in part by ArtsFairfax. \nAppropriate for Broadway Audiences in 1962\, several characters are enslaved\, bawdy humor\, suggestive dancing and mild stage combat.
URL:https://restoncommunitycenter.com/event/reston-community-players-a-funny-thing-happened-on-the-way-to-the-forum-7/
LOCATION:The Leila Gordon Theatre\, 2310 Colts Neck Rd.\, Reston\, VA\, 20191\, United States
CATEGORIES:Theatre/Performing Arts
ATTACH;FMTTYPE=image/png:https://restoncommunitycenter.com/wp-content/uploads/A-Funny-Thing-Happened-on-the-Way-to-the-Forum.png
END:VEVENT
BEGIN:VEVENT
DTSTART;TZID=America/New_York:20260503T140000
DTEND;TZID=America/New_York:20260503T140000
DTSTAMP:20260423T092608
CREATED:20250908T143413Z
LAST-MODIFIED:20250908T143413Z
UID:10003036-1777816800-1777816800@restoncommunitycenter.com
SUMMARY:Reston Community Players: “A Funny Thing Happened on the Way to the Forum”
DESCRIPTION:Reston Community Players (RCP) continue their tradition of artistic excellence with touching\, funny and timeless productions. RCP has been delighting audiences since 1966. Be sure you get in on the fun. \n“A Funny Thing Happened on the Way to the Forum”\nBook by Larry Gelbart and Bert Shevelove\nMusic and Lyrics by Stephen Sondheim \nOne of the funniest musicals ever to hit Broadway\, this show is pure “Comedy Tonight” with all of the elements of classic Farce\, Roman Comedy and the very best of American vaudeville traditions and featuring Stephen Sondheim’s first full score for a Broadway musical! \nThe Reston Community Players is supported in part by ArtsFairfax. \nAppropriate for Broadway Audiences in 1962\, several characters are enslaved\, bawdy humor\, suggestive dancing and mild stage combat.
URL:https://restoncommunitycenter.com/event/reston-community-players-a-funny-thing-happened-on-the-way-to-the-forum-8/
LOCATION:The Leila Gordon Theatre\, 2310 Colts Neck Rd.\, Reston\, VA\, 20191\, United States
CATEGORIES:Theatre/Performing Arts
ATTACH;FMTTYPE=image/png:https://restoncommunitycenter.com/wp-content/uploads/A-Funny-Thing-Happened-on-the-Way-to-the-Forum.png
END:VEVENT
BEGIN:VEVENT
DTSTART;TZID=America/New_York:20260504T100000
DTEND;TZID=America/New_York:20260504T100000
DTSTAMP:20260423T092608
CREATED:20251115T140006Z
LAST-MODIFIED:20251112T164630Z
UID:10003150-1777888800-1777888800@restoncommunitycenter.com
SUMMARY:Movies That Move: “Wicked”
DESCRIPTION:Based on the Broadway musical\, this first installment follows Elphaba and Glinda’s unlikely friendship as an encounter with the Wizard of Oz leads them down very different paths. (2024\, rated PG)
URL:https://restoncommunitycenter.com/event/movies-that-move-wicked/
LOCATION:The Leila Gordon Theatre\, 2310 Colts Neck Rd.\, Reston\, VA\, 20191\, United States
CATEGORIES:Movies
ATTACH;FMTTYPE=image/png:https://restoncommunitycenter.com/wp-content/uploads/Movies-That-Move.png
END:VEVENT
BEGIN:VEVENT
DTSTART;TZID=America/New_York:20260507T141500
DTEND;TZID=America/New_York:20260507T153000
DTSTAMP:20260423T092608
CREATED:20251115T140026Z
LAST-MODIFIED:20251112T181438Z
UID:10003159-1778163300-1778167800@restoncommunitycenter.com
SUMMARY:Meet the Artists: Olga Simonova
DESCRIPTION:Olga Simonova\, Russian American pianist\, composer and Reston resident\, will perform her original piano compositions in a cinematic style that bridges the past and future. \nThese programs are a joint venture between Osher Lifelong Learning Institute (OLLI) at George Mason University and Reston Community Center. OLLI at George Mason University offers daytime courses\, lectures\, special events and other activities year-round. There are no exams\, no credits\, no college degree required or offered and no age threshold for joining. \n 
URL:https://restoncommunitycenter.com/event/meet-the-artists-olga-simonova-2/
LOCATION:The Leila Gordon Theatre\, 2310 Colts Neck Rd.\, Reston\, VA\, 20191\, United States
CATEGORIES:Music/Concerts
ATTACH;FMTTYPE=image/jpeg:https://restoncommunitycenter.com/wp-content/uploads/Olga-Simonova.jpg
END:VEVENT
BEGIN:VEVENT
DTSTART;TZID=America/New_York:20260508T200000
DTEND;TZID=America/New_York:20260508T200000
DTSTAMP:20260423T092608
CREATED:20250908T143522Z
LAST-MODIFIED:20250908T143522Z
UID:10003037-1778270400-1778270400@restoncommunitycenter.com
SUMMARY:Reston Community Players: “A Funny Thing Happened on the Way to the Forum”
DESCRIPTION:Reston Community Players (RCP) continue their tradition of artistic excellence with touching\, funny and timeless productions. RCP has been delighting audiences since 1966. Be sure you get in on the fun. \n“A Funny Thing Happened on the Way to the Forum”\nBook by Larry Gelbart and Bert Shevelove\nMusic and Lyrics by Stephen Sondheim \nOne of the funniest musicals ever to hit Broadway\, this show is pure “Comedy Tonight” with all of the elements of classic Farce\, Roman Comedy and the very best of American vaudeville traditions and featuring Stephen Sondheim’s first full score for a Broadway musical! \nThe Reston Community Players is supported in part by ArtsFairfax. \nAppropriate for Broadway Audiences in 1962\, several characters are enslaved\, bawdy humor\, suggestive dancing and mild stage combat.
URL:https://restoncommunitycenter.com/event/reston-community-players-a-funny-thing-happened-on-the-way-to-the-forum-9/
LOCATION:The Leila Gordon Theatre\, 2310 Colts Neck Rd.\, Reston\, VA\, 20191\, United States
CATEGORIES:Theatre/Performing Arts
ATTACH;FMTTYPE=image/png:https://restoncommunitycenter.com/wp-content/uploads/A-Funny-Thing-Happened-on-the-Way-to-the-Forum.png
END:VEVENT
BEGIN:VEVENT
DTSTART;TZID=America/New_York:20260509T140000
DTEND;TZID=America/New_York:20260509T140000
DTSTAMP:20260423T092608
CREATED:20250908T143613Z
LAST-MODIFIED:20250908T143613Z
UID:10003038-1778335200-1778335200@restoncommunitycenter.com
SUMMARY:Reston Community Players: “A Funny Thing Happened on the Way to the Forum”
DESCRIPTION:Reston Community Players (RCP) continue their tradition of artistic excellence with touching\, funny and timeless productions. RCP has been delighting audiences since 1966. Be sure you get in on the fun. \n“A Funny Thing Happened on the Way to the Forum”\nBook by Larry Gelbart and Bert Shevelove\nMusic and Lyrics by Stephen Sondheim \nOne of the funniest musicals ever to hit Broadway\, this show is pure “Comedy Tonight” with all of the elements of classic Farce\, Roman Comedy and the very best of American vaudeville traditions and featuring Stephen Sondheim’s first full score for a Broadway musical! \nThe Reston Community Players is supported in part by ArtsFairfax. \nAppropriate for Broadway Audiences in 1962\, several characters are enslaved\, bawdy humor\, suggestive dancing and mild stage combat.
URL:https://restoncommunitycenter.com/event/reston-community-players-a-funny-thing-happened-on-the-way-to-the-forum-10/
LOCATION:The Leila Gordon Theatre\, 2310 Colts Neck Rd.\, Reston\, VA\, 20191\, United States
CATEGORIES:Theatre/Performing Arts
ATTACH;FMTTYPE=image/png:https://restoncommunitycenter.com/wp-content/uploads/A-Funny-Thing-Happened-on-the-Way-to-the-Forum.png
END:VEVENT
BEGIN:VEVENT
DTSTART;TZID=America/New_York:20260515T193000
DTEND;TZID=America/New_York:20260515T193000
DTSTAMP:20260423T092608
CREATED:20251115T140023Z
LAST-MODIFIED:20260325T194850Z
UID:10003161-1778873400-1778873400@restoncommunitycenter.com
SUMMARY:Festival Ballet Virginia: “Echoes”
DESCRIPTION:Festival Ballet Virginia & Motion X Dance Company present Echoes. \nFestival Ballet Virginia (FBV) was founded in 2018 as a nonprofit\, high-quality\, preprofessional dance company dedicated to inspiring excellence and infusing passion in dancers and audience members. \nEchoes brings together Motion X Dance Company and Festival Ballet Virginia in a raw\, moving evening of contemporary dance. Rooted in the vulnerable truths of the human experience\, each piece explores themes of mental health\, hope\, and resilience—and the lasting impressions they leave behind. Don’t miss this thought provoking evening of free expression through movement!
URL:https://restoncommunitycenter.com/event/festival-ballet-virginia-echoes/
LOCATION:The Leila Gordon Theatre\, 2310 Colts Neck Rd.\, Reston\, VA\, 20191\, United States
CATEGORIES:Dance
ATTACH;FMTTYPE=image/jpeg:https://restoncommunitycenter.com/wp-content/uploads/mx201690-scaled.jpg
END:VEVENT
BEGIN:VEVENT
DTSTART;TZID=America/New_York:20260516T193000
DTEND;TZID=America/New_York:20260516T193000
DTSTAMP:20260423T092608
CREATED:20251115T140047Z
LAST-MODIFIED:20260325T194845Z
UID:10003162-1778959800-1778959800@restoncommunitycenter.com
SUMMARY:Festival Ballet Virginia: “Echoes”
DESCRIPTION:Festival Ballet Virginia & Motion X Dance Company present Echoes. \nFestival Ballet Virginia (FBV) was founded in 2018 as a nonprofit\, high-quality\, preprofessional dance company dedicated to inspiring excellence and infusing passion in dancers and audience members. \nEchoes brings together Motion X Dance Company and Festival Ballet Virginia in a raw\, moving evening of contemporary dance. Rooted in the vulnerable truths of the human experience\, each piece explores themes of mental health\, hope\, and resilience—and the lasting impressions they leave behind. Don’t miss this thought provoking evening of free expression through movement!
URL:https://restoncommunitycenter.com/event/festival-ballet-virginia-echoes-2/
LOCATION:The Leila Gordon Theatre\, 2310 Colts Neck Rd.\, Reston\, VA\, 20191\, United States
CATEGORIES:Dance
ATTACH;FMTTYPE=image/jpeg:https://restoncommunitycenter.com/wp-content/uploads/mx201690-scaled.jpg
END:VEVENT
BEGIN:VEVENT
DTSTART;TZID=America/New_York:20260523T140000
DTEND;TZID=America/New_York:20260523T140000
DTSTAMP:20260423T092608
CREATED:20251115T140052Z
LAST-MODIFIED:20251112T183330Z
UID:10003165-1779544800-1779544800@restoncommunitycenter.com
SUMMARY:Ravel Dance Company: “Cinderella”
DESCRIPTION:This spring\, experience “Cinderella\,” a timeless ballet of kindness\, courage and true love. Featuring Prokofiev’s score\, stunning costumes\, imaginative sets and the artistry of the Ravel dancers\, this enchanting tale comes to life for audiences of all ages. \nTickets available at the RCC Box Office in April.
URL:https://restoncommunitycenter.com/event/ravel-dance-company-cinderella/
LOCATION:The Leila Gordon Theatre\, 2310 Colts Neck Rd.\, Reston\, VA\, 20191\, United States
CATEGORIES:Dance
ATTACH;FMTTYPE=image/jpeg:https://restoncommunitycenter.com/wp-content/uploads/Nutcracker-2025-scaled.jpg
END:VEVENT
BEGIN:VEVENT
DTSTART;TZID=America/New_York:20260524T140000
DTEND;TZID=America/New_York:20260524T140000
DTSTAMP:20260423T092608
CREATED:20251115T140001Z
LAST-MODIFIED:20251112T183427Z
UID:10003166-1779631200-1779631200@restoncommunitycenter.com
SUMMARY:Ravel Dance Company: “Cinderella”
DESCRIPTION:This spring\, experience “Cinderella\,” a timeless ballet of kindness\, courage and true love. Featuring Prokofiev’s score\, stunning costumes\, imaginative sets and the artistry of the Ravel dancers\, this enchanting tale comes to life for audiences of all ages. \nTickets available at the RCC Box Office in April.
URL:https://restoncommunitycenter.com/event/ravel-dance-company-cinderella-2/
LOCATION:The Leila Gordon Theatre\, 2310 Colts Neck Rd.\, Reston\, VA\, 20191\, United States
CATEGORIES:Dance
ATTACH;FMTTYPE=image/jpeg:https://restoncommunitycenter.com/wp-content/uploads/Nutcracker-2025-scaled.jpg
END:VEVENT
BEGIN:VEVENT
DTSTART;TZID=America/New_York:20260530T200000
DTEND;TZID=America/New_York:20260530T200000
DTSTAMP:20260423T092608
CREATED:20250715T130011Z
LAST-MODIFIED:20250724T184934Z
UID:10002977-1780171200-1780171200@restoncommunitycenter.com
SUMMARY:Murray Hill
DESCRIPTION:Murray Hill is a well-known entertainer in New York City. He is a comedian\, TV host and emcee. Audiences enjoy his performances for their high energy\, humor and engaging storytelling. Starring as Fred Rococo in HBO’s acclaimed series “Somebody Somewhere\, “Murray has won several awards\, including a Peabody Award and AFI. He hosted “Drag Me to Dinner” on Hulu and appears in “Life & Beth” and “Welcome to Flatch.” He also acts in the upcoming movie “Jackpot\,” starring John Cena and Awkwafina. \nIn 2025\, he will release his memoir “Showbiz! My Life as a Middle-Aged Man” with Simon & Schuster’s Gallery Books. He served as a special guest correspondent for ABC News during “Pride Across America\,” covering Pride marches in San Francisco\, New York and Chicago. NBC News recognized him as one of the 30 most influential drag performers today. \nMurray received the New York Voices commission from Joe’s Pub at The Public Theater\, where he presented his one-man show “About to Break.” His holiday show “A Murray Little Christmas” has sold out at Joe’s Pub for a decade\, drawing audiences with its festive spirit and fun performances.
URL:https://restoncommunitycenter.com/event/murray-hill/
LOCATION:The Leila Gordon Theatre\, 2310 Colts Neck Rd.\, Reston\, VA\, 20191\, United States
CATEGORIES:Theatre/Performing Arts
ATTACH;FMTTYPE=image/jpeg:https://restoncommunitycenter.com/wp-content/uploads/MurrayHill.jpg
END:VEVENT
BEGIN:VEVENT
DTSTART;TZID=America/New_York:20260612T190000
DTEND;TZID=America/New_York:20260612T190000
DTSTAMP:20260423T092608
CREATED:20260415T130002Z
LAST-MODIFIED:20260402T160149Z
UID:10004174-1781290800-1781290800@restoncommunitycenter.com
SUMMARY:GroundShare Arts Alliance: Spring Concert
DESCRIPTION:GroundShare Arts Spring Concert is a vibrant dance theatre production developed through the collaborative work of students and teaching artists. This multi-generational company blends movement and narrative to explore timely themes and foster community through the arts. \nClick here for the Saturday\, June 13 show.
URL:https://restoncommunitycenter.com/event/groundshare-arts-alliance-spring-concert-5/
LOCATION:The Leila Gordon Theatre\, 2310 Colts Neck Rd.\, Reston\, VA\, 20191\, United States
CATEGORIES:Dance
ATTACH;FMTTYPE=image/jpeg:https://restoncommunitycenter.com/wp-content/uploads/groundshare.jpg
END:VEVENT
BEGIN:VEVENT
DTSTART;TZID=America/New_York:20260613T150000
DTEND;TZID=America/New_York:20260613T150000
DTSTAMP:20260423T092608
CREATED:20260415T130033Z
LAST-MODIFIED:20260402T160152Z
UID:10004175-1781362800-1781362800@restoncommunitycenter.com
SUMMARY:GroundShare Arts Alliance: Spring Concert
DESCRIPTION:GroundShare Arts Spring Concert is a vibrant dance theatre production developed through the collaborative work of students and teaching artists. This multi-generational company blends movement and narrative to explore timely themes and foster community through the arts. \nClick here for the Friday\, June 12 show.
URL:https://restoncommunitycenter.com/event/groundshare-arts-alliance-spring-concert-6/
LOCATION:The Leila Gordon Theatre\, 2310 Colts Neck Rd.\, Reston\, VA\, 20191\, United States
CATEGORIES:Dance
ATTACH;FMTTYPE=image/jpeg:https://restoncommunitycenter.com/wp-content/uploads/groundshare.jpg
END:VEVENT
END:VCALENDAR