BEGIN:VCALENDAR
VERSION:2.0
PRODID:-//RCC - ECPv6.0.12//NONSGML v1.0//EN
CALSCALE:GREGORIAN
METHOD:PUBLISH
X-ORIGINAL-URL:https://restoncommunitycenter.com
X-WR-CALDESC:Events for RCC
REFRESH-INTERVAL;VALUE=DURATION:PT1H
X-Robots-Tag:noindex
X-PUBLISHED-TTL:PT1H
BEGIN:VTIMEZONE
TZID:America/New_York
BEGIN:DAYLIGHT
TZOFFSETFROM:-0500
TZOFFSETTO:-0400
TZNAME:EDT
DTSTART:20260308T070000
END:DAYLIGHT
BEGIN:STANDARD
TZOFFSETFROM:-0400
TZOFFSETTO:-0500
TZNAME:EST
DTSTART:20261101T060000
END:STANDARD
END:VTIMEZONE
BEGIN:VEVENT
DTSTART;VALUE=DATE:20260105
DTEND;VALUE=DATE:20260203
DTSTAMP:20260422T214132
CREATED:20251115T140048Z
LAST-MODIFIED:20260103T184048Z
UID:10003184-1767571200-1770076799@restoncommunitycenter.com
SUMMARY:“From Wood to Watercolor” Exhibit
DESCRIPTION:Watercolor Paintings by Don Janus\n \nReception: Sunday\, January 11\, 2:00 p.m. – 4:00 p.m. \n“From Wood to Watercolor” speaks to the primary elements underpinning my creative process. From journeyman carpenter to master woodworker\, sometime potter and avid sketcher\, I have always been creating things with my hands. \nMy initial foray from sketcher to watercolorist was at the behest of Lubna Zahid\, a fine artist and former RCC instructor\, who encouraged me to try my hand at painting. Other strong influences include Christine Lashley\, Diane Ellor and Vicky Zhou\, along with a group of painting friends who continue to inspire me. \nThe essential through-line connecting my creative experience is the ability to envision how to manifest a desired outcome. That line flows directly into watercolor\, where it takes a practiced hand to brush paint onto paper and bring my vision to light. Many courses\, online immersions and museum visits later\, with some homage images on display here\, you can see my influences span Edward Seago\, Edward Wesson\, James McNeil Whistler\, Andrew Wyeth\, Issac Levitan and Chiura Obata. \nAs also evidenced in this exhibit\, I gravitate toward portraying structures in rural landscapes\, particularly the decrepit\, weathered remnants that I have witnessed across Rappahannock County where I have built my studio. I also have an affinity for certain furry and feathered creatures.
URL:https://restoncommunitycenter.com/event/from-wood-to-water-exhibit/
LOCATION:RCC Lake Anne\, 1609-A Washington Plaza N\,\, Reston\, VA\, 20190\, United States
CATEGORIES:Visual Arts
ATTACH;FMTTYPE=image/png:https://restoncommunitycenter.com/wp-content/uploads/DonJanus1.png
END:VEVENT
BEGIN:VEVENT
DTSTART;VALUE=DATE:20260202
DTEND;VALUE=DATE:20260303
DTSTAMP:20260422T214132
CREATED:20251115T140042Z
LAST-MODIFIED:20260114T204143Z
UID:10003185-1769990400-1772495999@restoncommunitycenter.com
SUMMARY:Five By Seven Exhibit
DESCRIPTION:Mixed Media and Oil Paintings by Karen Rose Loehr\nReception: Sunday\, February 15\, 2:00 p.m. – 4:00 p.m. \nKaren’s Rose Loehr’s exhibit during February is an exploration of process over finished product: a call and response versus direct observation. Most of her works began as taped-off grids on 24-by-18-inch sheets of paper and were developed through cycles of mark-making\, obliteration and further mark-making. As layers are added and erased\, each section of the grid gradually emerges with its own identity\, fully revealed when the tape is removed. This process allows for accidents and chance to play a critical role in the final piece. \nThis is Karen’s first exhibit in the gallery dedicated to her mother\, Jo Ann Rose. It is particularly meaningful because when Jo Ann became ill\, Karen took her seat on the RCC Board of Governors and helped make her mother’s dream of having an exhibition space in Reston a reality. \nKaren is a DMV-based artist working in Reston\, Virginia. She attended the Corcoran School of Art and has shown her work primarily in the Washington\, D.C. area. \nOn Sunday\, February 15\, please join her during the opening reception from 2:00 p.m. to 4:00 p.m. in the Jo Ann Rose Gallery. \nContact: Karen Rose Loehr: karenloehr@gmail.com
URL:https://restoncommunitycenter.com/event/five-by-seven-exhibit/
LOCATION:RCC Lake Anne\, 1609-A Washington Plaza N\,\, Reston\, VA\, 20190\, United States
CATEGORIES:Visual Arts
ATTACH;FMTTYPE=image/png:https://restoncommunitycenter.com/wp-content/uploads/FIVE-BY-SEVEN1.png
END:VEVENT
BEGIN:VEVENT
DTSTART;TZID=America/New_York:20260215T140000
DTEND;TZID=America/New_York:20260215T160000
DTSTAMP:20260422T214132
CREATED:20260114T204102Z
LAST-MODIFIED:20260201T000832Z
UID:10003204-1771164000-1771171200@restoncommunitycenter.com
SUMMARY:Five By Seven Reception
DESCRIPTION:Five By Seven Exhibit – Mixed Media and Oil Paintings by Karen Rose Loehr \nKaren’s Rose Loehr’s exhibit during February is an exploration of process over finished product: a call and response versus direct observation. Most of her works began as taped-off grids on 24-by-18-inch sheets of paper and were developed through cycles of mark-making\, obliteration and further mark-making. As layers are added and erased\, each section of the grid gradually emerges with its own identity\, fully revealed when the tape is removed. This process allows for accidents and chance to play a critical role in the final piece. \nThis is Karen’s first exhibit in the gallery dedicated to her mother\, Jo Ann Rose. It is particularly meaningful because when Jo Ann became ill\, Karen took her seat on the RCC Board of Governors and helped make her mother’s dream of having an exhibition space in Reston a reality. \nKaren is a DMV-based artist working in Reston\, Virginia. She attended the Corcoran School of Art and has shown her work primarily in the Washington\, D.C. area. \nOn Sunday\, February 15\, please join her during the opening reception from 2:00 p.m. to 4:00 p.m. in the Jo Ann Rose Gallery. \nContact: Karen Rose Loehr   karenloehr@gmail.com
URL:https://restoncommunitycenter.com/event/five-by-seven-reception/
LOCATION:RCC Lake Anne\, 1609-A Washington Plaza N\,\, Reston\, VA\, 20190\, United States
CATEGORIES:Visual Arts
ATTACH;FMTTYPE=image/png:https://restoncommunitycenter.com/wp-content/uploads/FIVE-BY-SEVEN2.png
END:VEVENT
BEGIN:VEVENT
DTSTART;VALUE=DATE:20260302
DTEND;VALUE=DATE:20260331
DTSTAMP:20260422T214132
CREATED:20251115T140027Z
LAST-MODIFIED:20260304T162729Z
UID:10003186-1772409600-1774915199@restoncommunitycenter.com
SUMMARY:Youth Art Month Exhibit
DESCRIPTION:Art from Reston Elementary School Students\nDogwood\, Fox Mill\, Forest Edge\, Hunters Woods\, Lake Anne\, Sunrise Valley and Terraset\n \nJoined by Students from Langston Hughes Middle School and South Lakes High School In the 3D Gallery: March 2 – April 17\nOpen House: Sunday\, March 8\, 1:00 p.m. – 4:00 p.m. \nTo celebrate National Youth Art Month\, Reston public elementary schools have created a special exhibit of colorful and compelling artwork to be displayed from March 2 – 30 in the Jo Ann Rose Gallery. They are joined by students from Langston Hughes Middle School and South Lakes High School in the 3D Gallery where original three-dimensional works will be displayed until April 17. \nVisit the Jo Ann Rose Gallery during March and the 3D Gallery until April 17 whenever the Lake Anne facility is open (call 703-476-4500 to check availability). Everyone is invited to attend an exhibit opening on Sunday\, March 8\, 1:00 p.m. – 4:00 p.m. in the Jo Ann Rose Gallery. \nNational Youth Art Month is an annual observance celebrated since 1961.  It emphasizes the value of art education and encourages support for quality school art programs.
URL:https://restoncommunitycenter.com/event/youth-art-month-exhibit-11/
LOCATION:RCC Lake Anne\, 1609-A Washington Plaza N\,\, Reston\, VA\, 20190\, United States
CATEGORIES:Visual Arts
ATTACH;FMTTYPE=image/png:https://restoncommunitycenter.com/wp-content/uploads/Youth-Art-Month-Exhibit1.png
END:VEVENT
BEGIN:VEVENT
DTSTART;VALUE=DATE:20260302
DTEND;VALUE=DATE:20260418
DTSTAMP:20260422T214132
CREATED:20251115T140059Z
LAST-MODIFIED:20260311T174822Z
UID:10003188-1772409600-1776470399@restoncommunitycenter.com
SUMMARY:"Youth Art Month Exhibit" Exhibit
DESCRIPTION:Art From Reston South Lakes Pyramid Students
URL:https://restoncommunitycenter.com/event/youth-art-month-exhibit-exhibit/
LOCATION:RCC Lake Anne\, 1609-A Washington Plaza N\,\, Reston\, VA\, 20190\, United States
CATEGORIES:Visual Arts
ATTACH;FMTTYPE=image/jpeg:https://restoncommunitycenter.com/wp-content/uploads/Sunrise-Valley-ES-Lake-Anne-scaled.jpeg
END:VEVENT
BEGIN:VEVENT
DTSTART;TZID=America/New_York:20260308T130000
DTEND;TZID=America/New_York:20260308T160000
DTSTAMP:20260422T214132
CREATED:20260114T194707Z
LAST-MODIFIED:20260304T162738Z
UID:10003201-1772974800-1772985600@restoncommunitycenter.com
SUMMARY:Youth Art Month Open House
DESCRIPTION:Youth Art Month Exhibit – Art from Reston Elementary School Students \nTo celebrate National Youth Art Month\, Reston public elementary schools have created a special exhibit of artwork to be displayed from March 2 to March 30 in the Jo Ann Rose Gallery and 3D Gallery at Reston Community Center Lake Anne. The exhibit showcases colorful and compelling original works of art from students at every grade level. Everyone is invited to attend an open house on Sunday\, March 8\, 1:00 p.m. – 5:00 p.m. in the Jo Ann Rose Gallery. \nThe elementary schools participating in the exhibit are Dogwood\, Hunters Woods\, Forest Edge\, Lake Anne\, Sunrise Valley and Terraset elementary schools. \nNational Youth Art Month is an annual observance celebrated since 1961. It emphasizes the value of art education and encourages support for quality school art programs.
URL:https://restoncommunitycenter.com/event/youth-art-month-open-house-3/
LOCATION:RCC Lake Anne\, 1609-A Washington Plaza N\,\, Reston\, VA\, 20190\, United States
CATEGORIES:Visual Arts
ATTACH;FMTTYPE=image/png:https://restoncommunitycenter.com/wp-content/uploads/Youth-Art-Month-1.png
END:VEVENT
BEGIN:VEVENT
DTSTART;TZID=America/New_York:20260314T110000
DTEND;TZID=America/New_York:20260314T150000
DTSTAMP:20260422T214132
CREATED:20251115T140041Z
LAST-MODIFIED:20251110T145650Z
UID:10003051-1773486000-1773500400@restoncommunitycenter.com
SUMMARY:Diva Central Shopping Event
DESCRIPTION:12 – 18 years old\n \nGlam up with Diva Central!\nStyle dresses\, shoes and accessories at RCC’s unique boutique event. \n• Open to middle and high school students \n• Perfect for formals\, graduations and milestone moments \n• Limited to two dresses\, one pair of shoes and one set of accessories per student
URL:https://restoncommunitycenter.com/event/diva-central-shopping-event-3/
LOCATION:RCC Lake Anne\, 1609-A Washington Plaza N\,\, Reston\, VA\, 20190\, United States
CATEGORIES:Other
ATTACH;FMTTYPE=image/jpeg:https://restoncommunitycenter.com/wp-content/uploads/LP_0018_L-1_0872.jpg
END:VEVENT
BEGIN:VEVENT
DTSTART;TZID=America/New_York:20260411T130000
DTEND;TZID=America/New_York:20260411T150000
DTSTAMP:20260422T214132
CREATED:20260312T152603Z
LAST-MODIFIED:20260312T152603Z
UID:10003282-1775912400-1775919600@restoncommunitycenter.com
SUMMARY:Ceramics with Andrew Casto
DESCRIPTION:Join Tephra Institute of Contemporary Art (Tephra ICA) and Reston Community Center as we explore the world of ceramics. Offered free to the public\, ceramicist and Tephra ICA exhibiting artist Andrew Casto will demonstrate his unique method for creating works that translate geologic processes and psychological energies into colorful and highly textured ceramics. All artists and art enthusiasts are welcome. \nAbout Andrew Casto\nAndrew Casto (b. Ohio\, 1977) lives and works in Iowa City. He was the 2011 MJD fellow at The Archie Bray Foundation for Ceramic Art in Helena\, Montana and has exhibited work internationally in Spain\, Croatia\, Italy\, Austria\, Slovenia\, Belgium\, China\, Switzerland\, France and Japan. He is currently Associate Professor and Program Head of Ceramics at The University of Iowa. Click here to learn more about Andrew Casto. \nAbout Tephra ICA\nTephra ICA is a Reston-based non-profit\, exhibiting the work of emerging and established local\, national and international artists. Tephra ICA programs\, which take place in galleries and across Northern Virginia\, spark conversation and inspire bold\, innovative ideas. Click here to learn more about Tephra ICA. \nRegistration Required. \n 
URL:https://restoncommunitycenter.com/event/ceramics-with-andrew-casto/
LOCATION:RCC Lake Anne\, 1609-A Washington Plaza N\,\, Reston\, VA\, 20190\, United States
ATTACH;FMTTYPE=image/jpeg:https://restoncommunitycenter.com/wp-content/uploads/thumbnail_HardFawn_1_AndrewCasto-1.jpg
END:VEVENT
BEGIN:VEVENT
DTSTART;TZID=America/New_York:20260412T140000
DTEND;TZID=America/New_York:20260412T160000
DTSTAMP:20260422T214132
CREATED:20260116T161815Z
LAST-MODIFIED:20260116T161815Z
UID:10003206-1776002400-1776009600@restoncommunitycenter.com
SUMMARY:League of Reston Artists: Art in Public Places (AIPP) Reception
DESCRIPTION:Solo Shows – Quarterly Rotation \nThe League of Reston Artists (LRA) is an active and enthusiastic group of diverse visual fine artists\, photographers and supporters of the arts. LRA is a non-profit 501(c)(3) volunteer-run organization that sponsors the Reston Photographic Society. \nMinimal annual dues entitle active artists to participate in a variety of exhibition\, learning\, community and volunteer activities. Numerous judged and juried shows in venues throughout the community give member artists and photographers opportunities to earn distinctions. \nArt in Public Places (AIPP) also provides exhibit opportunities for LRA members. Located in approximately 5 commercial and public places\, solo exhibits are on a three-month rotation basis. For a list of the AIPP locations and the details of current exhibits\, please visit the LRA website.
URL:https://restoncommunitycenter.com/event/league-of-reston-artists-art-in-public-places-aipp-reception/
LOCATION:RCC Lake Anne\, 1609-A Washington Plaza N\,\, Reston\, VA\, 20190\, United States
CATEGORIES:Visual Arts
ATTACH;FMTTYPE=image/jpeg:https://restoncommunitycenter.com/wp-content/uploads/SmallWorksExhibit-scaled.jpg
END:VEVENT
BEGIN:VEVENT
DTSTART;TZID=America/New_York:20260412T140000
DTEND;TZID=America/New_York:20260412T170000
DTSTAMP:20260422T214132
CREATED:20260114T200520Z
LAST-MODIFIED:20260114T200552Z
UID:10003203-1776002400-1776013200@restoncommunitycenter.com
SUMMARY:CELEBRATE RESTON AT LAKE ANNE Reception
DESCRIPTION:CELEBRATE RESTON AT LAKE ANNE – Painters Exhibit by League of Reston Artists (LRA) Members \nCelebrate Reston! \nJoin us as we commemorate the 22nd year of the annual event formerly known as “Founders Day.” Artist members of the League of Reston Artists (LRA) will exhibit unique paintings in the Jo Ann Rose Gallery at RCC Lake Anne from March 30 to April 27. \nThis exhibit honors Reston’s rich 62-year history. Be sure to visit the gallery in April and join us for the main Celebrate Reston! event on Sunday\, April 18\, 2:00 p.m. to 4:00 p.m. at Lake Anne Plaza. \nDon’t miss this opportunity to celebrate Reston’s vibrant community\, history and art! \nContact: Karen Hutchison  karenhutchison8@gmail.com
URL:https://restoncommunitycenter.com/event/celebrate-reston-at-lake-anne-reception/
LOCATION:RCC Lake Anne\, 1609-A Washington Plaza N\,\, Reston\, VA\, 20190\, United States
CATEGORIES:Visual Arts
ATTACH;FMTTYPE=image/png:https://restoncommunitycenter.com/wp-content/uploads/CELEBRATE-RESTON-AT-LAKE-ANNE2.png
END:VEVENT
END:VCALENDAR